{"text_format":"3","workbook":"xlsx","n_sheets":9,"sheets":["Menu","SlimFix","SlimFix Reno+","SlimFix RenoTwin","calcu","lijst RC"," lijst slimfix","lijst reno","lijst renotwin"],"not_rendered":{"images":8,"defined_names":6,"comments":1},"read":"whole","date_system":"1900"}

{"sheet":"Menu","index":0,"n_rows":9,"n_cols":2,"rows_kept":9}
[]
[null,"Hulpmaterialentool dakelementen"]
[null,"Met behulp van deze tool kunt u bij eenvoudige zadel- of lessenaarsdaken bepalen welke"]
[null,"en hoeveel bevestigers en profielen u nodig heeft bij de verwerking van de diverse types "]
[null,"dakelementen"]
[null,"Bij complexere dakconstructies geven wij u graag een projectspecifiek advies."]
[null,"Stuur hiervoor uw projectgegevens naar info@isobouw.nl"]
[]
[null,"Maak een productkeuze"]

{"sheet":"SlimFix","index":1,"n_rows":78,"n_cols":11,"rows_kept":78,"merged":[[13,3,13,9],[15,1,15,11],[29,3,29,7],[47,3,47,7],[58,1,58,11],[60,5,60,6]]}
[]
[null,"Hulpmaterialentool SlimFix dakelementen"]
[]
[null,"Met behulp van deze tool kunt u bij eenvoudige zadel- of lessenaarsdaken bepalen welke en hoeveel "]
[null,"bevestigers en profielen u nodig heeft bij de verwerking van de diverse types SlimFix dakelementen"]
[null,"Bij complexere dakconstructies geven wij u graag een projectspecifiek advies."]
[null,"Stuur hiervoor uw projectgegevens naar info@isobouw.nl"]
[]
[null,"Product"]
[{"$nulls":9},"Opnieuw selecteren bij typeverandering"]
[null,"Type dakelement",null,"_Type",{"$nulls":3},"RC-waarde",null," "]
[{"$nulls":3},"Voor Solar-elementen verwijzen wij naar de verwerkingsvoorschriften op onze site"]
[]
[null,"Projectnaam (optioneel)"]
[]
[null,"Dakconstructie"]
[]
[]
[]
[{"$nulls":9},"d","dd"]
{"$rows_empty":7}
[null,"Dakvlak 1: Alle velden invullen m.u.v.'gewicht PV-panelen' Dat veld is optioneel."]
[]
[null,"Gebouwtype",null,"1,2 of 3 bouwlagen (ééngezinswoning)"]
[]
[null,"Breedte in mm",{"$nulls":4},"Lengte in mm"]
[]
[]
[null,"Aantal oplegpunten"]
[]
[]
[]
[]
[]
[null,"Gewicht pannen in kg/m2",{"$nulls":4},"PV-panelen  + plafond in kg/m2",{"$nulls":3},"(optioneel)"]
[]
[{"$nulls":6},"Totaal aantal gelijksoortige",null,null,"Minimaal 1 invullen"]
[null,"Dakhelling in graden",{"$nulls":4},"dakvlakken",null,null,1]
[]
[null,"Dakvlak 2 (indien van toepassing): Alle velden invullen m.u.v.'gewicht PV-panelen' Dat veld is optioneel."]
[]
[null,"Gebouwtype",null,"1,2 of 3 bouwlagen (ééngezinswoning)"]
[]
[null,"Breedte in mm",{"$nulls":4},"Lengte in mm"]
[]
[null,"Aantal oplegpunten"]
[]
[null,"Gewicht pannen in kg/m2",{"$nulls":4},"PV-panelen  + plafond in kg/m2",{"$nulls":3},"(optioneel)"]
[]
[{"$nulls":6},"Totaal aantal gelijksoortige",null,null,"Minimaal 1 invullen (indien van toepassing)"]
[null,"Dakhelling in graden",{"$nulls":4},"dakvlakken",null,null,1]
[]
[null,"Bevestigingsmethode"]
[]
[null,"Dakvlak 1:",{"$nulls":3},"Bevestigers",null,null,"Aantal "]
[null,{"$f":"VLOOKUP(calcu!$C$10,' lijst slimfix'!C6:AA60,23)","v":{"$error":"#N/A"}},{"$nulls":3},{"$f":"VLOOKUP(calcu!$C$10,' lijst slimfix'!C6:X60,4)","v":{"$error":"#N/A"}},null,{"$f":"IF(OR($B$62=\"Door de tengel t.p.v. elke onderliggende gording/muurplaat:\",$B$62=\"T.p.v. elke onderliggende gording/muurplaat:\"),\" \",\"incl. volgplaatjes\")","v":{"$error":"#N/A"}},{"$f":"IF($D$32=0,0,VLOOKUP(calcu!$C$10,' lijst slimfix'!C6:AA60,24))","v":0},"per oplegging"]
[null,{"$f":"VLOOKUP(calcu!$C$10,' lijst slimfix'!C6:AA60,25)","v":{"$error":"#N/A"}},{"$nulls":3},{"$f":"IF($B$63=\" \",\"\",VLOOKUP(calcu!$C$10,' lijst slimfix'!C6:X60,9))","v":{"$error":"#N/A"}},null,{"$f":"IF(OR($B$63=\" \",$B$63=\"Extra t.p.v. de plaatvaste oplegging/muurplaat:\"),\" \",\"incl. volgplaatjes\")","v":{"$error":"#N/A"}},{"$f":"IF($B$63=\" \",\" \",VLOOKUP(calcu!$C$10,' lijst slimfix'!C6:X60,12))","v":{"$error":"#N/A"}},{"$f":"IF($B$63=\" \",\" \",\"per element\")","v":{"$error":"#N/A"}}]
[]
[null,{"$f":"IF($D$50=0,\" \",\"Dakvlak 2\")","v":" "}]
[null,{"$f":"IF($D$50=0,\" \",VLOOKUP(calcu!$C$10,' lijst slimfix'!C6:AA60,23))","v":" "},{"$nulls":3},{"$f":"IF($D$50=0,\" \",VLOOKUP(calcu!$C$10,' lijst slimfix'!C6:X60,4))","v":" "},null,{"$f":"IF(OR($B$66=\"Door de tengel t.p.v. elke onderliggende gording/muurplaat:\",$B$66=\" \"),\" \",\"incl. volgplaatjes\")","v":" "},{"$f":"IF($D$50=0,\" \",VLOOKUP(calcu!$C$10,' lijst slimfix'!C6:AA60,24))","v":" "},{"$f":"IF($D$50=0,\" \",\"per oplegging\")","v":" "}]
[null,{"$f":"IF($D$50=0,\" \",VLOOKUP(calcu!$C$10,' lijst slimfix'!C6:AA60,25))","v":" "},{"$nulls":3},{"$f":"IF($B$67=\" \",\" \",VLOOKUP(calcu!$C$10,' lijst slimfix'!C6:X60,9))","v":" "},null,{"$f":"IF($B$67=\" \",\" \",\"incl. volgplaatjes\")","v":" "},{"$f":"IF($B$67=\" \",\" \",VLOOKUP(calcu!$C$10,' lijst slimfix'!C6:X60,13))","v":" "},{"$f":"IF($B$67=\" \",\" \",\"per element\")","v":" "}]
[]
[null,"Totale hoeveelheid benodigde bevestigers en hulpmaterialen"]
[]
[null,"Product",null,"Eenheid",null,null,"Aantal"]
[null,{"$f":"VLOOKUP(calcu!$C$10,' lijst slimfix'!C6:V60,16)","v":{"$error":"#N/A"}},null,{"$f":"IF(B72=0,\" \",VLOOKUP(calcu!$C$10,' lijst slimfix'!C6:V60,5))","v":{"$error":"#N/A"}},{"$f":"IF(B72=0,\" \",\"st/ds\")","v":{"$error":"#N/A"}},null,{"$f":"IF(B72=0,\" \",VLOOKUP(calcu!$C$10,' lijst slimfix'!C6:V60,17))","v":{"$error":"#N/A"}},{"$f":"IF(B72=0,\" \",\"ds\")","v":{"$error":"#N/A"}}]
[null,{"$f":"VLOOKUP(calcu!$C$10,' lijst slimfix'!C6:V60,18)","v":{"$error":"#N/A"}},null,{"$f":"IF(B73=0,\" \",VLOOKUP(calcu!$C$10,' lijst slimfix'!C6:V60,10))","v":{"$error":"#N/A"}},{"$f":"IF(B73=0,\" \",\"st/ds\")","v":{"$error":"#N/A"}},null,{"$f":"IF(B73=0,\" \",VLOOKUP(calcu!$C$10,' lijst slimfix'!C6:V60,19))","v":{"$error":"#N/A"}},{"$f":"IF(B73=0,\" \",\"ds\")","v":{"$error":"#N/A"}}]
[null,{"$f":"IF(G74=0,\" \",\"Volgplaatjes\")","v":{"$error":"#N/A"}},null,{"$f":"IF(G74=0,\" \",100)","v":{"$error":"#N/A"}},{"$f":"IF(G74=0,\" \",\"st/ds\")","v":{"$error":"#N/A"}},null,{"$f":"VLOOKUP(calcu!$C$10,' lijst slimfix'!C6:X60,20)","v":{"$error":"#N/A"}},{"$f":"IF(G74=0,\" \",\"ds\")","v":{"$error":"#N/A"}}]
[null,{"$f":"VLOOKUP(calcu!$C$10,' lijst slimfix'!C6:X60,21)","v":{"$error":"#N/A"}},{"$nulls":4},{"$f":"VLOOKUP(calcu!$C$10,' lijst slimfix'!C6:X60,22)","v":{"$error":"#N/A"}},"m1"]
[]
[null,"Aan de uitkomsten van de berekeningen kunnen geen rechten worden ontleend"]
[null,"Bij de berekeningen is geen rekening gehouden met de toepassing van stuiknaden en/of elementen met kopgeveloverstekvoorziening"]

{"sheet":"SlimFix Reno+","index":2,"n_rows":67,"n_cols":11,"rows_kept":67,"merged":[[12,3,12,9],[14,1,14,11],[46,1,46,11],[48,5,48,6],[63,6,63,9],[66,1,71,11]]}
[]
[null,"Hulpmaterialentool SlimFix Reno+ elementen"]
[]
[null,"Met behulp van deze tool kunt u bij eenvoudige zadel- of lessenaarsdaken bepalen welke en hoeveel "]
[null,"bevestigers en profielen (optioneel) u nodig heeft bij de verwerking van de  SlimFix Reno+ elementen"]
[null,"Bij complexere dakconstructies geven wij u graag een projectspecifiek advies."]
[null,"Stuur hiervoor uw projectgegevens naar info@isobouw.nl"]
[]
[null,"Product"]
[]
[null,"Type dakelement",null,"SlimFix Reno+",{"$nulls":3},"RC-waarde"]
[]
[null,"Projectnaam (optioneel)"]
[]
[null,"Dakconstructie"]
[]
[]
[]
[{"$nulls":9},"d","dd"]
{"$rows_empty":7}
[null,"Dakvlak 1: Alle velden invullen."]
[]
[null,"Breedte in mm",{"$nulls":4},"Lengte in mm"]
[]
[]
[null,"Aantal oplegpunten/gordingen"]
[]
[]
[null,"Totaal aantal gelijksoortige",null,"Minimaal 1 invullen"]
[null,"dakvlakken",null,1]
[]
[null,"Dakvlak 2 (indien van toepassing): Alle velden invullen."]
[]
[null,"Breedte in mm",{"$nulls":4},"Lengte in mm"]
[]
[null,"Aantal oplegpunten/gordingen"]
[]
[null,"Totaal aantal gelijksoortige",null,"Minimaal 1 invullen (indien van toepassing)"]
[null,"dakvlakken",null,1]
[]
[null,"Bevestigingsmethode"]
[]
[null,"Dakvlak 1:",{"$nulls":3},"Bevestigers",null,null,"Aantal "]
[null,"Door de tengel t.p.v. elke onderliggende gording",{"$nulls":3},{"$f":"VLOOKUP('lijst reno'!M5,'lijst reno'!C5:F13,4)","v":{"$error":"#N/A"}},null,null,3,"per oplegging"]
[]
[null,{"$f":"IF($D$40=0,\" \",\"Dakvlak 2\")","v":" "}]
[null,{"$f":"IF($D$40=0,\" \",\"Door de tengel t.p.v. elke onderliggende gording\")","v":" "},{"$nulls":3},{"$f":"IF($D$40=0,\" \",VLOOKUP('lijst reno'!M5,'lijst reno'!C5:F13,7))","v":" "},null,null,{"$f":"IF($D$40=0,\" \",3)","v":" "},{"$f":"IF($D$40=0,\" \",\"per oplegging\")","v":" "}]
[]
[null,"Totale hoeveelheid benodigde bevestigers en hulpmaterialen"]
[]
[null,"Product",null,"Eenheid",null,null,"Aantal"]
[null,"Schroef",{"$f":"F50","v":{"$error":"#N/A"}},"100 st./ds",null,null,{"$f":"CEILING('lijst reno'!I5/100,1)","v":0},{"$f":"IF(C58=0,\" \",\"ds\")","v":{"$error":"#N/A"}}]
[]
[null,"Optioneel:"]
[null,"SlimFix Reno naadprofiel 3 m",null,"8 st./bundel",null,null,{"$f":"CEILING(((J29/1000)*'lijst reno'!G5)+((J40/1000)*'lijst reno'!H5),1)","v":0},"m1        oftewel",{"$f":"CEILING(G61/8,1)","v":0},"bundel"]
[]
[null,{"$f":"VLOOKUP('lijst reno'!M5,'lijst reno'!C5:K13,8)","v":{"$error":"#N/A"}},null,{"$f":"IF(B63=0,\" \",\"6 st./doos*\")","v":{"$error":"#N/A"}},null,null,{"$f":"IF(B63=0,\" \",CEILING(((D29*D36)+(D40*D45))/11700,1))","v":{"$error":"#N/A"}},{"$f":"IF(B63=0,\" \",\"ds\")","v":{"$error":"#N/A"}}]
[null,{"$f":"VLOOKUP('lijst reno'!M5,'lijst reno'!C5:K13,9)","v":{"$error":"#N/A"}},null,{"$f":"IF(B64=0,\" \",\"4 st./doos**\")","v":{"$error":"#N/A"}},null,null,{"$f":"IF(B64=0,\" \",\"aantal/toepassing afhankelijk van project\")","v":{"$error":"#N/A"}}]
[null,"Aan de uitkomsten van de berekeningen kunnen geen rechten worden ontleend"]
[]
[null,{"$f":"IF(B63=0,\" \",'lijst reno'!A15)","v":{"$error":"#N/A"}}]

{"sheet":"SlimFix RenoTwin","index":3,"n_rows":98,"n_cols":12,"rows_kept":98,"merged":[[15,3,15,9],[17,1,17,11],[63,1,63,11],[65,5,65,6],[94,6,94,9],[97,1,102,11]]}
[]
[null,"Hulpmaterialentool SlimFix RenoTwin elementen"]
[]
[null,"Met behulp van deze tool kunt u bij eenvoudige zadel- of lessenaarsdaken bepalen welke en hoeveel "]
[null,"bevestigers en profielen (optioneel) u nodig heeft bij de verwerking van de  SlimFix RenoTwin elementen"]
[null,"Bij complexere dakconstructies geven wij u graag een projectspecifiek advies."]
[null,"Stuur hiervoor uw projectgegevens naar info@isobouw.nl"]
[]
[null,"Product"]
[]
[null,"Type dakelement",null,"SlimFix RenoTwin",{"$nulls":3},"Type*"]
[{"$nulls":3},"* Dit is de isolatiedikte. De bijbehorende Rc-waarde is mede afhankelijk van de onderconstructie (eventuele aanwezigheid oude "]
[{"$nulls":3},"isolatielaag en aanwezige luchtspouw). Zie hieronder voor de daarbij passende Rc-waarde."]
[{"$nulls":3},"Voor Solar-elementen verwijzen wij naar de verwerkingsvoorschriften op onze site"]
[]
[null,"Projectnaam (optioneel)"]
[]
[null,"Dakconstructie"]
[]
[]
[]
[{"$nulls":9},"d","dd"]
{"$rows_empty":7}
[null,"Dakvlak 1: Alle velden invullen."]
[]
[null,"Breedte in mm",{"$nulls":4},"Lengte in mm"]
[]
[]
[null,"Aantal oplegpunten/gordingen"]
[]
[]
[]
[]
[null,"Hoogte luchtspouw in mm",null,"_kies"]
[null,"(Ruimte tussen onderconstructie en RenoTwin)",{"$nulls":4},"Totaal aantal gelijksoortige",null,null,"Minimaal 1 invullen"]
[null,"Dikte bestaand dakpakket in mm",null,"_kies",null,null,"dakvlakken",null,null,1]
[null,"(dakbeschot + eventuele bestaande isolatie)"]
[]
[null,"Uitkomst bijbehorende RC-waarde",null,{"$f":"IF(D42=\"_kies\",\" \",VLOOKUP(('lijst renotwin'!N5&D40&D42),'lijst renotwin'!B28:F192,5))","v":" "}]
[]
[null,"Is er sprake van een gootoverstek",null,"_kies"]
[]
[null,"Dakvlak 2 (indien van toepassing): Alle velden invullen."]
[]
[null,"Breedte in mm",{"$nulls":4},"Lengte in mm"]
[]
[null,"Aantal oplegpunten/gordingen"]
[]
[null,"Hoogte luchtspouw in mm",null,"_kies"]
[null,"(Ruimte tussen onderconstructie en RenoTwin)",{"$nulls":4},"Totaal aantal gelijksoortige",null,null,"Minimaal 1 invullen (indien van toepassing)"]
[null,"Dikte bestaand dakpakket in mm",null,"_kies",null,null,"dakvlakken",null,null,1]
[null,"(dakbeschot + eventuele bestaande isolatie)"]
[]
[null,"Uitkomst bijbehorende RC-waarde",null,{"$f":"IF(D57=\"_kies\",\" \",VLOOKUP(('lijst renotwin'!N5&D55&D57),'lijst renotwin'!B28:F192,5))","v":" "}]
[]
[null,"Is er sprake van een gootoverstek",null,"_kies"]
[]
[null,"Bevestigingsmethode"]
[]
[null,"Dakvlak 1:",{"$nulls":3},"Bevestigers",null,null,"Aantal "]
[null,"Door de tengel t.p.v. elke onderliggende gording",{"$nulls":3},{"$f":"IF(D42=\"_kies\",\" \",VLOOKUP(('lijst renotwin'!N5&D40&D42),'lijst renotwin'!B28:E192,4))","v":" "},"RenoTwin schroef",null,3,"per oplegging"]
[]
[null,{"$f":"IF(D47=\"ja\",\"T.b.v. gootoverstek:\",\" \")","v":" "}]
[null,{"$f":"IF(D47=\"ja\",\"67° bevestiging door de tengel t.p.v. de muurplaat \",\" \")","v":" "},{"$nulls":3},{"$f":"IF(D47=\"ja\",VLOOKUP('lijst renotwin'!N5,'lijst renotwin'!C5:L16,10),\" \")","v":" "},{"$f":"IF(D47=\"ja\",\"RenoTwin schroef\",\" \")","v":" "},null,{"$f":"IF(D47=\"ja\",3,\" \")","v":" "},{"$f":"IF(D47=\"ja\",\"per element\",\" \")","v":" "}]
[{"$nulls":6},{"$f":"IF(D47=\"ja\",VLOOKUP('lijst renotwin'!N5,'lijst renotwin'!C5:L16,9),\" \")","v":" "},{"$f":"IF(D47=\"ja\",\"mm afstand tot horiz. schroef)\",\" \")","v":" "}]
[null,{"$f":"IF($D$51=0,\" \",\"Dakvlak 2\")","v":" "}]
[null,{"$f":"IF($D$51=0,\" \",\"Door de tengel t.p.v. elke onderliggende gording\")","v":" "},{"$nulls":3},{"$f":"IF(D51=0,\" \",L73)","v":" "},{"$f":"IF(D51=0,\" \",\"RenoTwin schroef\")","v":" "},null,{"$f":"IF($D$51=0,\" \",3)","v":" "},{"$f":"IF($D$51=0,\" \",\"per oplegging\")","v":" "},null,{"$f":"IF(D57=\"_kies\",\" \",VLOOKUP(('lijst renotwin'!N5&D55&D57),'lijst renotwin'!B28:E342,4))","v":" "}]
[]
[null,{"$f":"IF(D62=\"ja\",\"T.b.v. gootoverstek:\",\" \")","v":" "}]
[null,{"$f":"IF(D62=\"ja\",\"67° bevestiging in de muurplaat \",\" \")","v":" "},{"$nulls":3},{"$f":"IF(D62=\"ja\",VLOOKUP('lijst renotwin'!N5,'lijst renotwin'!C5:L16,10),\" \")","v":" "},{"$f":"IF(D62=\"ja\",\"RenoTwin schroef\",\" \")","v":" "},null,{"$f":"IF(D62=\"ja\",3,\" \")","v":" "},{"$f":"IF(D62=\"ja\",\"per element\",\" \")","v":" "}]
[{"$nulls":6},{"$f":"IF(D62=\"ja\",VLOOKUP('lijst renotwin'!N5,'lijst renotwin'!C5:L16,9),\" \")","v":" "},{"$f":"IF(D62=\"ja\",\"mm afstand tot horiz. schroef)\",\" \")","v":" "}]
[]
[null,"Totale hoeveelheid benodigde bevestigers en hulpmaterialen"]
[]
[null,"Product",null,"Eenheid",null,null,"Aantal"]
[null,"RenoTwin schroef",{"$f":"F67","v":" "},{"$f":"VLOOKUP(C82,'lijst renotwin'!J28:M39,2)","v":{"$error":"#N/A"}},null,null,{"$f":"CEILING('lijst renotwin'!F5/VLOOKUP(C82,'lijst renotwin'!J28:M39,3),1)","v":{"$error":"#N/A"}},{"$f":"IF(C82=0,\" \",\"ds t.b.v. dakvlak 1\")","v":"ds t.b.v. dakvlak 1"}]
[null,{"$f":"IF(D51=0,\" \",\"RenoTwin schroef\")","v":" "},{"$f":"IF(B83= \" \",\" \",$L$73)","v":" "},{"$f":"IF(B83=\" \",\" \",VLOOKUP(C83,'lijst renotwin'!J28:M39,2))","v":" "},null,null,{"$f":"IF(B83=\" \",\" \",CEILING('lijst renotwin'!G5/VLOOKUP(C83,'lijst renotwin'!J28:M39,3),1))","v":" "},{"$f":"IF(C83=\" \",\" \",\"ds t.b.v. dakvlak 2\")","v":" "}]
[]
[null,{"$f":"IF(OR(D47=\"ja\",D62=\"ja\"),\"T.b.v. gootoverstek\",\" \")","v":" "}]
[null,{"$f":"IF(C86=\" \",\" \",\"RenoTwin schroef\")","v":" "},{"$f":"F70","v":" "},{"$f":"IF(B86=\" \",\" \",VLOOKUP(C86,'lijst renotwin'!J28:M39,2))","v":" "},null,null,{"$f":"IF(B86=\" \",\" \",CEILING(('lijst renotwin'!D5+'lijst renotwin'!E5)*3/VLOOKUP(C86,'lijst renotwin'!J28:M39,3),1))","v":" "},{"$f":"IF(C86=\" \",\" \",\"ds\")","v":" "}]
[]
[null,"Optioneel:"]
[null,"SlimFix Reno naadprofiel 3 m",null,"8 st./bundel",null,null,{"$f":"CEILING(((J32/1000)*'lijst renotwin'!D5)+((J51/1000)*'lijst renotwin'!E5),1)","v":0},"m1        oftewel",{"$f":"CEILING(G89/8,1)","v":0},"bundel"]
[null,"Voldraadschroef 6x120 t.b.v. kopgeveloverstek",null,"100 st./ds",null,null,{"$f":"CEILING(((D32/1000*4*2*J42)+(D51/1000*4*2*J57))/100,1)","v":0},"ds (flexoptie bij een kopgeveloverstekvoorziening,"]
[{"$nulls":7},"       volume gebas.op toepassing bij iedere boeiboord)"]
[null,{"$f":"IF(J11>=5,\"Schroefhulp\",\" \")","v":" "},{"$nulls":4},{"$f":"IF(B92=\" \",\" \",1)","v":" "},{"$f":"IF(B92=\" \",\" \",\"st.\")","v":" "}]
[]
[null,{"$f":"VLOOKUP('lijst renotwin'!N5,'lijst renotwin'!C5:I16,6)","v":{"$error":"#N/A"}},null,{"$f":"IF(B94=0,\" \",\"6 st./doos*\")","v":{"$error":"#N/A"}},null,null,{"$f":"CEILING(((D32*J42)+(D51*J57))/11700,1)","v":0},{"$f":"IF(B94=0,\" \",\"ds\")","v":{"$error":"#N/A"}}]
[null,{"$f":"VLOOKUP('lijst renotwin'!N5,'lijst renotwin'!C5:I16,7)","v":{"$error":"#N/A"}},null,{"$f":"IF(B95=0,\" \",\"4 st./doos**\")","v":{"$error":"#N/A"}},null,null,"aantal/toepassing afhankelijk van project"]
[null,"Aan de uitkomsten van de berekeningen kunnen geen rechten worden ontleend"]
[]
[null,{"$f":"IF(B94=0,\" \",'lijst reno'!A15)","v":{"$error":"#N/A"}}]

{"sheet":"calcu","index":4,"n_rows":43,"n_cols":28,"rows_kept":43,"hidden":true,"merged":[[1,0,3,9],[1,12,3,21],[9,2,9,3],[9,14,9,15],[36,0,36,9],[36,12,36,21],[37,0,37,9],[37,12,37,21]]}
[]
["Dakvlak 1",{"$nulls":11},"Dakvlak 2",{"$nulls":10},"Rapport SHR 2023","rekenwaarden afschuifsterkte"]
[{"$nulls":23},"rapp.code: 22.0675","FV,Rd,blijvend  [kN]",null,"FV,Rd,kort [kN]"]
[{"$nulls":23},"2023-08-10","schroef Ø 6","schroef Ø 8","schroef Ø 6","schroef Ø 8"]
[null,"SNEEUW:",null,"NEN-EN 1991-1-3+C1:2011/NB:2011",{"$nulls":9},"SNEEUW:",null,"NEN-EN 1991-1-3+C1:2011/NB:2011",{"$nulls":7},"3 mm sp.pl.",0.36,0.51,0.75,1.04]
["Daktype:","Zadel / lessenaarsdak (sneeuw wordt NIET belet van dak te glijden\";\"sneeuw wordt belet van dak te glijden)",{"$nulls":10},"Daktype:","Zadel / lessenaarsdak (sneeuw wordt NIET belet van dak te glijden\";\"sneeuw wordt belet van dak te glijden)",{"$nulls":9},"8 mm sp.pl.",0.85,1.07,1.75,2.2]
[null,"μ1 =",{"$f":"IF(AND(C11>=0,C11<=30),0.8,IF(AND(C11>30,C11<60),(60-C11)/30*0.8,IF(AND(C11>=60,C11<=90),0,IF(C11>90,\" hoek ???\",IF(C11<0,\" hoek ???\",\" \")))))","v":{"v":0.8,"d":"0.80"}},null,"Ce =",1,"sk50 =",{"$f":"0.7*((1-(H8*SQRT(6)/PI()*(LN(-LN(1-1/50))+0.57222)))/(1+2.5923*H8))","v":{"v":0.7007052261979702,"d":"0.7"}},"kN/m2",{"$nulls":4},"μ1 =",{"$f":"IF(AND(O11>=0,O11<=30),0.8,IF(AND(O11>30,O11<60),(60-O11)/30*0.8,IF(AND(O11>=60,O11<=90),0,IF(O11>90,\" hoek ???\",IF(O11<0,\" hoek ???\",\" \")))))","v":{"v":0.8,"d":"0.80"}},null,"Ce =",1,"sk50 =",{"$f":"0.7*((1-(T8*SQRT(6)/PI()*(LN(-LN(1-1/50))+0.57222)))/(1+2.5923*T8))","v":{"v":0.7007052261979702,"d":"0.7"}},"kN/m2",null,null,"3 mm sp.pl + XT rib",1.15,null,1.72]
[null,"s = μi Ce Ct sk =",{"$f":"C7*F7*F8*H7","v":{"v":0.5605641809583761,"d":"0.56"}},"kN/m2","Ct =",1,"V =",0.8,{"$nulls":5},"s = μi Ce Ct sk =",{"$f":"O7*R7*R8*T7","v":{"v":0.5605641809583761,"d":"0.56"}},"kN/m2","Ct =",1,"V =",0.8,{"$nulls":3},"8 mm sp.pl + XT rib",1.34,null,2.01]
[{"$nulls":5},"NEN-EN 1995-1-1:2005/NB:2011 art.2.3.1.2",{"$nulls":11},"NEN-EN 1995-1-1:2005/NB:2011 art.2.3.1.2"]
[null,"element :",{"$f":"SlimFix!D11&\" \"&SlimFix!J11","v":"_Type  "},null,null,"Belastingsduurklasse",{"$nulls":3},"Belastingsvoorbeelden",{"$nulls":3},"element :",{"$f":"SlimFix!D11&\" \"&SlimFix!J11","v":"_Type  "},null,null,"Belastingsduurklasse",{"$nulls":3},"Belastingsvoorbeelden",null,"NEN-EN 1995-1-1:2005/NB:2011 art.2.3.1.2"]
[null,"dakhelling  α =",{"$f":"SlimFix!D44","v":0},null,null,"blijvend",{"$nulls":3},"eigen gewicht",{"$nulls":3},"dakhelling  α =",{"$f":"SlimFix!$D$57","v":0},null,null,"blijvend",{"$nulls":3},"eigen gewicht",null,"Belastingsduurklasse",{"$nulls":3},"Belastingsvoorbeelden"]
[{"$nulls":5},"Kort",{"$nulls":3},"Sneeuw, wind",{"$nulls":7},"Kort",{"$nulls":3},"Sneeuw, wind",null,"blijvend",{"$nulls":3},"eigen gewicht"]
[{"$nulls":23},"Kort",{"$nulls":3},"Sneeuw, wind"]
[null,"eigen gewicht",{"$f":"VLOOKUP(C10,' lijst slimfix'!C6:E60,3)","v":{"$error":"#N/A"}},"kN/m2",null,{"$f":"SlimFix!D30","v":"1,2 of 3 bouwlagen (ééngezinswoning)"},{"$nulls":7},"eigen gewicht",{"$f":"VLOOKUP(C10,' lijst slimfix'!C6:E60,3)","v":{"$error":"#N/A"}},"kN/m2",null,{"$f":"SlimFix!D48","v":"1,2 of 3 bouwlagen (ééngezinswoning)"}]
[null,"pannen",{"$f":"SlimFix!D41","v":0},"kg/m2","evenwijdig ",{"$nulls":8},"pannen",{"$f":"SlimFix!$D$54","v":0},"kg/m2","evenwijdig "]
[null,"PV opdak",{"$f":"SlimFix!J41","v":0},"kg/m2","aan dakvl.",{"$nulls":3},"F",{"$nulls":4},"PV opdak",{"$f":"SlimFix!$J$54","v":0},"kg/m2","aan dakvl.",{"$nulls":3},"F"]
[null,"tot perm.",{"$f":"SUM(C14:C16)/100","v":{"$error":"#N/A"}},"kN/m2 =",{"$f":"C17*SIN(C11/180*PI())*E19*0.981","v":{"$error":"#N/A"}},"kN/m1   x",{"$f":"E20","v":0},"=",{"$f":"E17*G17","v":{"$error":"#N/A"}},"kN",{"$nulls":3},"tot perm.",{"$f":"SUM(O14:O16)/100","v":{"$error":"#N/A"}},"kN/m2 =",{"$f":"O17*SIN(O11/180*PI())*Q19*0.981","v":{"$error":"#N/A"}},"kN/m1   x",{"$f":"Q20","v":0},"=",{"$f":"Q17*S17","v":{"$error":"#N/A"}},"kN"]
[null,"tot sneeuw",{"$f":"C8","v":{"v":0.5605641809583761,"d":"0.56"}},"kN/m2 =",{"$f":"C18*COS(C11/180*PI())*SIN(C11/180*PI())*E19*0.981","v":{"v":0,"d":"0.00"}},"kN/m1   x",{"$f":"E20","v":0},"=",{"$f":"E18*G18","v":{"v":0,"d":"0.00"}},"kN",{"$nulls":3},"tot sneeuw",{"$f":"O8","v":{"v":0.5605641809583761,"d":"0.56"}},"kN/m2 =",{"$f":"O18*COS(O11/180*PI())*SIN(O11/180*PI())*Q19*0.981","v":{"v":0,"d":"0.00"}},"kN/m1   x",{"$f":"Q20","v":0},"=",{"$f":"Q18*S18","v":{"v":0,"d":"0.00"}},"kN"]
[{"$nulls":3},"elementbreedte =",1.02,"m",{"$nulls":9},"elementbreedte =",1.02,"m"]
[{"$nulls":3},"Daklengte =",{"$f":"SlimFix!J32/1000","v":0},"m",{"$nulls":9},"Daklengte =",{"$f":"SlimFix!J50/1000","v":0},"m"]
[]
[{"$nulls":3},"veiligheids ",null,"veiligheids ",{"$nulls":9},"veiligheids ",null,"veiligheids "]
[null,"Korte duur:",null,"factor γ","F","factor γ","F",{"$nulls":6},"Korte duur:",null,"factor γ","F","factor γ","F"]
["(6.10a)",null,"Ned,kort =",{"$f":"IF(F14=\"Meer dan 3 bouwlagen (appartement, openbaar gebouw)\",1.35,1.2)","v":1.2},{"$f":"I17","v":{"$error":"#N/A"}},null,null,"=",{"$f":"D24*E24","v":{"$error":"#N/A"}},{"$f":"IF(I24>=I25,\"kN = max\",\"kN\")","v":{"$error":"#N/A"}},null,null,"(6.10a)",null,"Ned,kort =",{"$f":"IF(R14=\"Meer dan 3 bouwlagen (appartement, openbaar gebouw)\",1.35,1.2)","v":1.2},{"$f":"U17","v":{"$error":"#N/A"}},null,null,"=",{"$f":"P24*Q24","v":{"$error":"#N/A"}},{"$f":"IF(U24>=U25,\"kN = max\",\"kN\")","v":{"$error":"#N/A"}}]
["(6.10b)",null,"Ned,kort =",{"$f":"IF(F14=\"Meer dan 3 bouwlagen (appartement, openbaar gebouw)\",1.2,1.08)","v":1.08},{"$f":"I17","v":{"$error":"#N/A"}},{"$f":"IF(F14=\"Meer dan 3 bouwlagen (appartement, openbaar gebouw)\",1.5,1.35)","v":1.35},{"$f":"I18","v":{"v":0,"d":"0.00"}},"=",{"$f":"D25*E25+F25*G25","v":{"$error":"#N/A"}},{"$f":"IF(I25>=I24,\"kN = max\",\"kN\")","v":{"$error":"#N/A"}},null,null,"(6.10b)",null,"Ned,kort =",{"$f":"IF(R14=\"Meer dan 3 bouwlagen (appartement, openbaar gebouw)\",1.2,1.08)","v":1.08},{"$f":"U17","v":{"$error":"#N/A"}},{"$f":"IF(R14=\"Meer dan 3 bouwlagen (appartement, openbaar gebouw)\",1.5,1.35)","v":1.35},{"$f":"U18","v":{"v":0,"d":"0.00"}},"=",{"$f":"P25*Q25+R25*S25","v":{"$error":"#N/A"}},{"$f":"IF(U25>=U24,\"kN = max\",\"kN\")","v":{"$error":"#N/A"}}]
[null,"Blijvend:",{"$nulls":11},"Blijvend:"]
["(6.10a)",null,"Ned,blijvend =",{"$f":"IF(F14=\"Meer dan 3 bouwlagen (appartement, openbaar gebouw)\",1.35,1.2)","v":1.2},{"$f":"I17","v":{"$error":"#N/A"}},null,null,"=",{"$f":"D27*E27","v":{"$error":"#N/A"}},{"$f":"IF(I27>=I28,\"kN = max\",\"kN\")","v":{"$error":"#N/A"}},null,null,"(6.10a)",null,"Ned,blijvend =",{"$f":"IF(R14=\"Meer dan 3 bouwlagen (appartement, openbaar gebouw)\",1.35,1.2)","v":1.2},{"$f":"U17","v":{"$error":"#N/A"}},null,null,"=",{"$f":"P27*Q27","v":{"$error":"#N/A"}},{"$f":"IF(U27>=U28,\"kN = max\",\"kN\")","v":{"$error":"#N/A"}}]
["(6.10b)",null,"Ned,blijvend =",{"$f":"IF(F14=\"Meer dan 3 bouwlagen (appartement, openbaar gebouw)\",1.2,1.08)","v":1.08},{"$f":"I17","v":{"$error":"#N/A"}},null,null,"=",{"$f":"D28*E28","v":{"$error":"#N/A"}},{"$f":"IF(I28>=I27,\"kN = max\",\"kN\")","v":{"$error":"#N/A"}},null,null,"(6.10b)",null,"Ned,blijvend =",{"$f":"IF(R14=\"Meer dan 3 bouwlagen (appartement, openbaar gebouw)\",1.2,1.08)","v":1.08},{"$f":"U17","v":{"$error":"#N/A"}},null,null,"=",{"$f":"P28*Q28","v":{"$error":"#N/A"}},{"$f":"IF(U28>=U27,\"kN = max\",\"kN\")","v":{"$error":"#N/A"}}]
[]
[{"$nulls":4},"SHR 2023 getest",null,null,"opgen door 3 ø 6 ","daarnaast",{"$nulls":7},"SHR 2023 getest",null,null,"opgen door 3 ø 6 ","daarnaast"]
[null,"spaanplaat =",{"$f":"VLOOKUP(C10,' lijst slimfix'!C6:D60,2)","v":{"$error":"#N/A"}},"mm","kort","blijvend","kort","blijvend","nog nodig",{"$nulls":4},"spaanplaat =",{"$f":"VLOOKUP(C10,' lijst slimfix'!C6:D60,2)","v":{"$error":"#N/A"}},"mm","kort","blijvend","kort","blijvend","nog nodig"]
["opneembaar door schroef ø 6 in 3mm plaat",{"$nulls":3},{"$f":"$AA$5*1000","v":750},{"$f":"$Y$5*1000","v":360},{"$f":"3*$E$32","v":2250},{"$f":"$F$32*3","v":1080},{"$f":"CEILING(MAX((MAX(I24:I25)-G32/1000)/(E32/1000),(MAX(I27:I28)-H32/1000)/(F32/1000)),1)","v":{"$error":"#N/A"}},"sts ø 6 ",null,null,"opneembaar door schroef ø 6 in 3mm plaat",{"$nulls":3},{"$f":"$AA$5*1000","v":750},{"$f":"$Y$5*1000","v":360},{"$f":"3*$E$32","v":2250},{"$f":"$F$32*3","v":1080},{"$f":"CEILING(MAX((MAX(U24:U25)-S32/1000)/(Q32/1000),(MAX(U27:U28)-T32/1000)/(R32/1000)),1)","v":{"$error":"#N/A"}},"sts ø 6 "]
["opneembaar door schroef ø 8 in 3mm plaat",{"$nulls":3},{"$f":"$AB$5*1000","v":1040},{"$f":"$Z$5*1000","v":510},{"$f":"3*$E$32","v":2250},{"$f":"$F$32*3","v":1080},{"$f":"CEILING(MAX((MAX(I24:I25)-G33/1000)/(E33/1000),(MAX(I27:I28)-H33/1000)/(F33/1000)),1)","v":{"$error":"#N/A"}},"sts ø 8",null,null,"opneembaar door schroef ø 8 in 3mm plaat",{"$nulls":3},{"$f":"$AB$5*1000","v":1040},{"$f":"$Z$5*1000","v":510},{"$f":"3*$E$32","v":2250},{"$f":"$F$32*3","v":1080},{"$f":"CEILING(MAX((MAX(U24:U25)-S33/1000)/(Q33/1000),(MAX(U27:U28)-T33/1000)/(R33/1000)),1)","v":{"$error":"#N/A"}},"sts ø 8"]
["opneembaar door schroef ø 6 in 8mm plaat",{"$nulls":3},{"$f":"$AA$6*1000","v":1750},{"$f":"$Y$6*1000","v":850},{"$f":"3*$E$34","v":5250},{"$f":"$F$34*3","v":2550},{"$f":"CEILING(MAX((MAX(I24:I25)-G34/1000)/(E34/1000),(MAX(I27:I28)-H34/1000)/(F34/1000)),1)","v":{"$error":"#N/A"}},"sts ø 6 ",null,null,"opneembaar door schroef ø 6 in 8mm plaat",{"$nulls":3},{"$f":"$AA$6*1000","v":1750},{"$f":"$Y$6*1000","v":850},{"$f":"3*$E$34","v":5250},{"$f":"$F$34*3","v":2550},{"$f":"CEILING(MAX((MAX(U24:U25)-S34/1000)/(Q34/1000),(MAX(U27:U28)-T34/1000)/(R34/1000)),1)","v":{"$error":"#N/A"}},"sts ø 6 "]
["opneembaar door schroef ø 8 in 8mm plaat",{"$nulls":3},{"$f":"$AB$6*1000","v":2200},{"$f":"$Z$6*1000","v":1070},{"$f":"3*$E$34","v":5250},{"$f":"$F$34*3","v":2550},{"$f":"CEILING(MAX((MAX(I24:I25)-G35/1000)/(E35/1000),(MAX(I27:I28)-H35/1000)/(F35/1000)),1)","v":{"$error":"#N/A"}},"sts ø 8",null,null,"opneembaar door schroef ø 8 in 8mm plaat",{"$nulls":3},{"$f":"$AB$6*1000","v":2200},{"$f":"$Z$6*1000","v":1070},{"$f":"3*$E$34","v":5250},{"$f":"$F$34*3","v":2550},{"$f":"CEILING(MAX((MAX(U24:U25)-S35/1000)/(Q35/1000),(MAX(U27:U28)-T35/1000)/(R35/1000)),1)","v":{"$error":"#N/A"}},"sts ø 8"]
[]
["SlimFixXT type R",{"$nulls":11},"SlimFixXT type R"]
["dakvlak 1",{"$nulls":11},"Dakvlak 2"]
[]
[{"$nulls":4},"SHR 2023 getest",null,null,"opgen door 3 ø 6 (2rib)","daarnaast",{"$nulls":7},"SHR 2023 getest",null,null,"opgen door 3 ø 6 (2rib)","daarnaast"]
[null,"spaanplaat =",{"$f":"VLOOKUP(C10,' lijst slimfix'!C6:D60,2)","v":{"$error":"#N/A"}},"mm","kort","blijvend","kort","blijvend","nog nodig",{"$nulls":4},"spaanplaat =",{"$f":"VLOOKUP(O10,' lijst slimfix'!C6:D60,2)","v":{"$error":"#N/A"}},"mm","kort","blijvend","kort","blijvend","nog nodig"]
["opneembaar door schroef ø 6 in 3mm plaat",{"$nulls":3},{"$f":"$AA$5*1000","v":750},{"$f":"$Y$5*1000","v":360},{"$f":"2*$AA$7*1000+$E$42","v":4190},{"$f":"2*$Y$7*1000+$F$42","v":2660},{"$f":"CEILING(MAX((MAX(I24:I25)-G42/1000)/(E42/1000),(MAX(I27:I28)-H42/1000)/(F42/1000)),1)","v":{"$error":"#N/A"}},"sts ø 6 ",null,null,"opneembaar door schroef ø 6 in 3mm plaat",{"$nulls":3},{"$f":"$AA$5*1000","v":750},{"$f":"$Y$5*1000","v":360},{"$f":"2*$AA$7*1000+$E$42","v":4190},{"$f":"2*$Y$7*1000+$F$42","v":2660},{"$f":"CEILING(MAX((MAX(U24:U25)-S42/1000)/(Q42/1000),(MAX(U27:U28)-T42/1000)/(R42/1000)),1)","v":{"$error":"#N/A"}},"sts ø 6 "]
["opneembaar door schroef ø 6 in 8mm plaat",{"$nulls":3},{"$f":"$AA$6*1000","v":1750},{"$f":"$Y$6*1000","v":850},{"$f":"2*$Y$8*1000+$E$43","v":4430},{"$f":"2*$Y$8*1000+$F$43","v":3530},{"$f":"CEILING(MAX((MAX(I24:I25)-G43/1000)/(E43/1000),(MAX(I27:I28)-H43/1000)/(F43/1000)),1)","v":{"$error":"#N/A"}},"sts ø 6 ",null,null,"opneembaar door schroef ø 6 in 8mm plaat",{"$nulls":3},{"$f":"$AA$6*1000","v":1750},{"$f":"$Y$6*1000","v":850},{"$f":"2*$Y$8*1000+$E$43","v":4430},{"$f":"2*$Y$8*1000+$F$43","v":3530},{"$f":"CEILING(MAX((MAX(U24:U25)-S43/1000)/(Q43/1000),(MAX(U27:U28)-T43/1000)/(R43/1000)),1)","v":{"$error":"#N/A"}},"sts ø 6 "]

{"sheet":"lijst RC","index":5,"n_rows":10,"n_cols":10,"rows_kept":10,"hidden":true}
[{"$f":"SlimFix!$D$11","v":"_Type"},"SlimFix Spoor","SlimFix-XT 3/3L","SlimFix-XT 3/3R","SlimFix-XT 8/8L","SlimFix-XT 8/8R","SlimFix-XT Passief","SlimFix-XT Passief M","SlimFix-XT Riet","ATTENTIE: type op alfabetische volgorde"]
[{"$f":"IF(HLOOKUP($A$1,B1:I10,2)>0,HLOOKUP($A$1,B1:I10,2),\" \")","v":{"$error":"#N/A"}},2.5,2.5,2.5,2.5,2.5,{"v":9,"d":"9.0"},{"v":8,"d":"8.0"},"2.5+4.0"]
[{"$f":"IF(HLOOKUP($A$1,$B$1:$I$10,3)>0,HLOOKUP($A$1,$B$1:$I$10,3),\" \")","v":{"$error":"#N/A"}},{"v":3,"d":"3.0"},{"v":3,"d":"3.0"},{"v":3,"d":"3.0"},{"v":3,"d":"3.0"},{"v":3,"d":"3.0"},{"v":10,"d":"10.0"},null,"3.0+4.0"]
[{"$f":"IF(HLOOKUP($A$1,$B$1:$I$10,4)>0,HLOOKUP($A$1,$B$1:$I$10,4),\" \")","v":{"$error":"#N/A"}},3.5,3.5,3.5,3.5,3.5,null,null,"3.5+4.0"]
[{"$f":"IF(HLOOKUP($A$1,$B$1:$I$10,5)>0,HLOOKUP($A$1,$B$1:$I$10,5),\" \")","v":{"$error":"#N/A"}},{"v":4,"d":"4.0"},{"v":4,"d":"4.0"},{"v":4,"d":"4.0"},{"v":4,"d":"4.0"},{"v":4,"d":"4.0"},null,null,"4.0+4.0"]
[{"$f":"IF(HLOOKUP($A$1,$B$1:$I$10,6)>0,HLOOKUP($A$1,$B$1:$I$10,6),\" \")","v":{"$error":"#N/A"}},4.5,4.5,4.5,4.5,4.5,null,null,"4.5+4.0"]
[{"$f":"IF(HLOOKUP($A$1,$B$1:$I$10,7)>0,HLOOKUP($A$1,$B$1:$I$10,7),\" \")","v":{"$error":"#N/A"}},{"v":5,"d":"5.0"},{"v":5,"d":"5.0"},{"v":5,"d":"5.0"},{"v":5,"d":"5.0"},{"v":5,"d":"5.0"},null,null,"5.5+4.0"]
[{"$f":"IF(HLOOKUP($A$1,$B$1:$I$10,8)>0,HLOOKUP($A$1,$B$1:$I$10,8),\" \")","v":{"$error":"#N/A"}},5.5,5.5,5.5,5.5,5.5,null,null,"6.3+4.0"]
[{"$f":"IF(HLOOKUP($A$1,$B$1:$I$10,9)>0,HLOOKUP($A$1,$B$1:$I$10,9),\" \")","v":{"$error":"#N/A"}},6.3,6.3,6.3,6.3,6.3]
[{"$f":"IF(HLOOKUP($A$1,$B$1:$I$10,10)>0,HLOOKUP($A$1,$B$1:$I$10,10),\" \")","v":{"$error":"#N/A"}},{"v":7,"d":"7.0"},{"v":7,"d":"7.0"},{"v":7,"d":"7.0"},{"v":7,"d":"7.0"},{"v":7,"d":"7.0"}]

{"sheet":" lijst slimfix","index":6,"n_rows":82,"n_cols":27,"rows_kept":82,"hidden":true,"merged":[[1,0,3,4],[1,17,2,21],[2,5,2,9],[2,10,2,15],[3,10,3,12],[3,17,3,18],[3,19,3,20]]}
[null,null,1,2,3,4,5,6,7,8,9,10,11,12,13,14,15,16,17,18,19,20,21,22,23,24,25]
["Keuzevelden",{"$nulls":16},"AANTAL "]
[{"$nulls":5},"t.p.v. kruising tengel/gording",{"$nulls":4},"afschuifkrachten"]
[{"$nulls":7},"dakvlak 1","dakvlak 2",{"$nulls":4},"dakvlak 1","dakvlak 2",null,null,"Schroef 1",null,"Schroef 2",null,"Volgplaatjes",null,"Lucht. Profielen"]
["type","RC-waarde","samen","beplating","gewicht","type","eenheid/ds","aantal elem","aantal elem","schroef tot",null,"eenheid/ds","dikte schr","aantal/pl","aantal/pl","schroef tot.",null,"type","aantal eenheden","type","aantal eenheden","aantal eenheden",null,"m1",null,"aantal"]
["SlimFix Spoor",2.5,{"$f":"A6&\" \"&B6","v":"SlimFix Spoor 2,5"},null,null,"schroef 160xØ6",100,{"$nulls":3}," ",{"$nulls":6},{"$f":"F6","v":"schroef 160xØ6"},null," "]
["SlimFix Spoor",{"v":3,"d":"3.0"},"SlimFix Spoor 3",null,null,"schroef 160xØ6",100,{"$nulls":3}," ",{"$nulls":6},"schroef 160xØ6",null," "]
["SlimFix Spoor",3.5,"SlimFix Spoor 3,5",null,null,"schroef 180xØ6",100,{"$nulls":3}," ",{"$nulls":6},"schroef 180xØ6",null," "]
["SlimFix Spoor",{"v":4,"d":"4.0"},"SlimFix Spoor 4",null,null,"schroef 200xØ6",100,{"$nulls":3}," ",{"$nulls":6},"schroef 200xØ6",null," "]
["SlimFix Spoor",4.5,"SlimFix Spoor 4,5",null,null,"schroef 220xØ6",100,{"$nulls":3}," ",{"$nulls":6},"schroef 220xØ6",null," "]
["SlimFix Spoor",{"v":5,"d":"5.0"},"SlimFix Spoor 5",null,null,"schroef 240xØ6",100,{"$nulls":3}," ",{"$nulls":6},"schroef 240xØ6",null," "]
["SlimFix Spoor",5.5,"SlimFix Spoor 5,5",null,null,"schroef 260xØ6",100,{"$nulls":3}," ",{"$nulls":6},"schroef 260xØ6",null," "]
["SlimFix Spoor",6.3,"SlimFix Spoor 6,3",null,null,"schroef 280xØ6",100,{"$nulls":3}," ",{"$nulls":6},"schroef 280xØ6",null," "]
["SlimFix Spoor",{"v":7,"d":"7.0"},"SlimFix Spoor 7",null,null,"schroef 300xØ6",100,{"$nulls":3}," ",{"$nulls":6},"schroef 300xØ6",null," "]
["SlimFix-XT 3/3L",2.5,"SlimFix-XT 3/3L 2,5",3,10.1,"Schroef 160xØ6",100,{"$f":"CEILING(SlimFix!$D$32*SlimFix!$J$44/1020,1)","v":0},{"$f":"CEILING(SlimFix!$D$50*SlimFix!$J$57/1020,1)","v":0},{"$f":"((H15*SlimFix!$D$35)+(I15*SlimFix!$D$52))*3","v":0},"Schroef 160xØ6",100,6,{"$f":"IF(calcu!$I$32<=0,0,calcu!$I$32)","v":{"$error":"#N/A"}},{"$f":"IF(OR(I15=0,calcu!$U$32<=0),0,calcu!$U$32)","v":{"$error":"#N/A"}},{"$f":"(H15*N15)+(I15*O15)","v":{"$error":"#N/A"}},null,"Schroef 160xØ6",{"$f":"CEILING((J15+P15)/G15,1)","v":{"$error":"#N/A"}},null,null,{"$f":"CEILING(P15/100,1)","v":{"$error":"#N/A"}},"Luchtdichte afdekprofielen",{"$f":"CEILING((H15*(SlimFix!$J$32/1000))+(I15*(SlimFix!$J$50/1000)),1)","v":0},"Door de tengel t.p.v. elke onderliggende gording/muurplaat:",3,"Tussen de tengels t.p.v. de plaatvaste oplegging/muurplaat:"]
["SlimFix-XT 3/3L",{"v":3,"d":"3.0"},"SlimFix-XT 3/3L 3",3,10.7,"Schroef 180xØ6",100,{"$f":"CEILING(SlimFix!$D$32*SlimFix!$J$44/1020,1)","v":0},{"$f":"CEILING(SlimFix!$D$50*SlimFix!$J$57/1020,1)","v":0},{"$f":"((H16*SlimFix!$D$35)+(I16*SlimFix!$D$52))*3","v":0},"Schroef 180xØ6",100,6,{"$f":"IF(calcu!$I$32<=0,0,calcu!$I$32)","v":{"$error":"#N/A"}},{"$f":"IF(OR(I16=0,calcu!$U$32<=0),0,calcu!$U$32)","v":{"$error":"#N/A"}},{"$error":"#N/A"},null,"Schroef 180xØ6",{"$f":"CEILING((J16+P16)/G16,1)","v":{"$error":"#N/A"}},null,null,{"$error":"#N/A"},"Luchtdichte afdekprofielen",{"$f":"CEILING((H16*(SlimFix!$J$32/1000))+(I16*(SlimFix!$J$50/1000)),1)","v":0},"Door de tengel t.p.v. elke onderliggende gording/muurplaat:",3,"Tussen de tengels t.p.v. de plaatvaste oplegging/muurplaat:"]
["SlimFix-XT 3/3L",3.5,{"$f":"A17&\" \"&B17","v":"SlimFix-XT 3/3L 3,5"},3,11.4,"Schroef 200xØ6",100,{"$f":"CEILING(SlimFix!$D$32*SlimFix!$J$44/1020,1)","v":0},{"$f":"CEILING(SlimFix!$D$50*SlimFix!$J$57/1020,1)","v":0},{"$f":"((H17*SlimFix!$D$35)+(I17*SlimFix!$D$52))*3","v":0},"Schroef 200xØ6",100,6,{"$f":"IF(calcu!$I$32<=0,0,calcu!$I$32)","v":{"$error":"#N/A"}},{"$f":"IF(OR(I17=0,calcu!$U$32<=0),0,calcu!$U$32)","v":{"$error":"#N/A"}},{"$f":"(H17*N17)+(I17*O17)","v":{"$error":"#N/A"}},null,"Schroef 200xØ6",{"$error":"#N/A"},null,null,{"$f":"CEILING(P17/100,1)","v":{"$error":"#N/A"}},"Luchtdichte afdekprofielen",{"$f":"CEILING((H17*(SlimFix!$J$32/1000))+(I17*(SlimFix!$J$50/1000)),1)","v":0},"Door de tengel t.p.v. elke onderliggende gording/muurplaat:",3,"Tussen de tengels t.p.v. de plaatvaste oplegging/muurplaat:"]
["SlimFix-XT 3/3L",{"v":4,"d":"4.0"},"SlimFix-XT 3/3L 4",3,{"v":12,"d":"12.0"},"Schroef 220xØ6",100,{"$f":"CEILING(SlimFix!$D$32*SlimFix!$J$44/1020,1)","v":0},{"$f":"CEILING(SlimFix!$D$50*SlimFix!$J$57/1020,1)","v":0},{"$f":"((H18*SlimFix!$D$35)+(I18*SlimFix!$D$52))*3","v":0},"Schroef 220xØ6",100,6,{"$f":"IF(calcu!$I$32<=0,0,calcu!$I$32)","v":{"$error":"#N/A"}},{"$f":"IF(OR(I18=0,calcu!$U$32<=0),0,calcu!$U$32)","v":{"$error":"#N/A"}},{"$error":"#N/A"},null,"Schroef 220xØ6",{"$error":"#N/A"},null,null,{"$error":"#N/A"},"Luchtdichte afdekprofielen",{"$f":"CEILING((H18*(SlimFix!$J$32/1000))+(I18*(SlimFix!$J$50/1000)),1)","v":0},"Door de tengel t.p.v. elke onderliggende gording/muurplaat:",3,"Tussen de tengels t.p.v. de plaatvaste oplegging/muurplaat:"]
["SlimFix-XT 3/3L",4.5,"SlimFix-XT 3/3L 4,5",3,12.8,"Schroef 240xØ6",100,{"$f":"CEILING(SlimFix!$D$32*SlimFix!$J$44/1020,1)","v":0},{"$f":"CEILING(SlimFix!$D$50*SlimFix!$J$57/1020,1)","v":0},{"$f":"((H19*SlimFix!$D$35)+(I19*SlimFix!$D$52))*3","v":0},"Schroef 240xØ6",100,6,{"$f":"IF(calcu!$I$32<=0,0,calcu!$I$32)","v":{"$error":"#N/A"}},{"$f":"IF(OR(I19=0,calcu!$U$32<=0),0,calcu!$U$32)","v":{"$error":"#N/A"}},{"$error":"#N/A"},null,"Schroef 240xØ6",{"$error":"#N/A"},null,null,{"$error":"#N/A"},"Luchtdichte afdekprofielen",{"$f":"CEILING((H19*(SlimFix!$J$32/1000))+(I19*(SlimFix!$J$50/1000)),1)","v":0},"Door de tengel t.p.v. elke onderliggende gording/muurplaat:",3,"Tussen de tengels t.p.v. de plaatvaste oplegging/muurplaat:"]
["SlimFix-XT 3/3L",{"v":5,"d":"5.0"},"SlimFix-XT 3/3L 5",3,13.4,"Schroef 260xØ6",100,{"$f":"CEILING(SlimFix!$D$32*SlimFix!$J$44/1020,1)","v":0},{"$f":"CEILING(SlimFix!$D$50*SlimFix!$J$57/1020,1)","v":0},{"$f":"((H20*SlimFix!$D$35)+(I20*SlimFix!$D$52))*3","v":0},"Schroef 260xØ6",100,6,{"$f":"IF(calcu!$I$32<=0,0,calcu!$I$32)","v":{"$error":"#N/A"}},{"$f":"IF(OR(I20=0,calcu!$U$32<=0),0,calcu!$U$32)","v":{"$error":"#N/A"}},{"$error":"#N/A"},null,"Schroef 260xØ6",{"$error":"#N/A"},null,null,{"$error":"#N/A"},"Luchtdichte afdekprofielen",{"$f":"CEILING((H20*(SlimFix!$J$32/1000))+(I20*(SlimFix!$J$50/1000)),1)","v":0},"Door de tengel t.p.v. elke onderliggende gording/muurplaat:",3,"Tussen de tengels t.p.v. de plaatvaste oplegging/muurplaat:"]
["SlimFix-XT 3/3L",5.5,"SlimFix-XT 3/3L 5,5",3,13.9,"Schroef 260xØ6",100,{"$f":"CEILING(SlimFix!$D$32*SlimFix!$J$44/1020,1)","v":0},{"$f":"CEILING(SlimFix!$D$50*SlimFix!$J$57/1020,1)","v":0},{"$f":"((H21*SlimFix!$D$35)+(I21*SlimFix!$D$52))*3","v":0},"Schroef 260xØ6",100,6,{"$f":"IF(calcu!$I$32<=0,0,calcu!$I$32)","v":{"$error":"#N/A"}},{"$f":"IF(OR(I21=0,calcu!$U$32<=0),0,calcu!$U$32)","v":{"$error":"#N/A"}},{"$error":"#N/A"},null,"Schroef 260xØ6",{"$error":"#N/A"},null,null,{"$error":"#N/A"},"Luchtdichte afdekprofielen",{"$f":"CEILING((H21*(SlimFix!$J$32/1000))+(I21*(SlimFix!$J$50/1000)),1)","v":0},"Door de tengel t.p.v. elke onderliggende gording/muurplaat:",3,"Tussen de tengels t.p.v. de plaatvaste oplegging/muurplaat:"]
["SlimFix-XT 3/3L",6.3,"SlimFix-XT 3/3L 6,3",3,{"v":15,"d":"15.0"},"Schroef 300xØ6",100,{"$f":"CEILING(SlimFix!$D$32*SlimFix!$J$44/1020,1)","v":0},{"$f":"CEILING(SlimFix!$D$50*SlimFix!$J$57/1020,1)","v":0},{"$f":"((H22*SlimFix!$D$35)+(I22*SlimFix!$D$52))*3","v":0},"Schroef 300xØ6",100,6,{"$f":"IF(calcu!$I$32<=0,0,calcu!$I$32)","v":{"$error":"#N/A"}},{"$f":"IF(OR(I22=0,calcu!$U$32<=0),0,calcu!$U$32)","v":{"$error":"#N/A"}},{"$error":"#N/A"},null,"Schroef 300xØ6",{"$error":"#N/A"},null,null,{"$error":"#N/A"},"Luchtdichte afdekprofielen",{"$f":"CEILING((H22*(SlimFix!$J$32/1000))+(I22*(SlimFix!$J$50/1000)),1)","v":0},"Door de tengel t.p.v. elke onderliggende gording/muurplaat:",3,"Tussen de tengels t.p.v. de plaatvaste oplegging/muurplaat:"]
["SlimFix-XT 3/3L",{"v":7,"d":"7.0"},"SlimFix-XT 3/3L 7",3,{"v":16,"d":"16.0"},"Schroef 300xØ6",100,{"$f":"CEILING(SlimFix!$D$32*SlimFix!$J$44/1020,1)","v":0},{"$f":"CEILING(SlimFix!$D$50*SlimFix!$J$57/1020,1)","v":0},{"$f":"((H23*SlimFix!$D$35)+(I23*SlimFix!$D$52))*2","v":0},"Schroef 300xØ6",100,6,{"$f":"IF(calcu!$I$32<=0,0,calcu!$I$32+1)","v":{"$error":"#N/A"}},{"$f":"IF(OR(I23=0,calcu!$U$32<=0),0,calcu!$U$32+1)","v":{"$error":"#N/A"}},{"$error":"#N/A"},{"$nulls":3},{"$f":"K23","v":"Schroef 300xØ6"},{"$f":"CEILING((P23+J23)/L23,1)","v":{"$error":"#N/A"}},{"$f":"CEILING((P23+J23)/100,1)","v":{"$error":"#N/A"}},"Luchtdichte afdekprofielen",{"$f":"CEILING((H23*(SlimFix!$J$32/1000))+(I23*(SlimFix!$J$50/1000)),1)","v":0},"Tussen de tengel t.p.v. elke onderliggende gording/muurplaat:",2,"Tussen de tengels t.p.v. de plaatvaste oplegging/muurplaat:"]
["SlimFix-XT 3/3R",2.5,"SlimFix-XT 3/3R 2,5",3,8.6,"Schroef 160xØ6",100,{"$f":"CEILING(SlimFix!$D$32*SlimFix!$J$44/1020,1)","v":0},{"$f":"CEILING(SlimFix!$D$50*SlimFix!$J$57/1020,1)","v":0},{"$f":"((H24*SlimFix!$D$35)+(I24*SlimFix!$D$52))*3","v":0},"Schroef 160xØ6",100,6,{"$f":"IF(calcu!$I$42<=0,0,calcu!$I$42)","v":{"$error":"#N/A"}},{"$f":"IF(calcu!$U$42<=0,0,calcu!$U$42)","v":{"$error":"#N/A"}},{"$error":"#N/A"},null,"Schroef 160xØ6",{"$f":"CEILING((J24+P24)/G24,1)","v":{"$error":"#N/A"}},null,null,{"$f":"CEILING(P24/100,1)","v":{"$error":"#N/A"}},"Luchtdichte afdekprofielen",{"$f":"CEILING((H24*(SlimFix!$J$32/1000))+(I24*(SlimFix!$J$50/1000)),1)","v":0},"Door de tengel t.p.v. elke onderliggende gording/muurplaat:",3,{"$f":"IF(P24=0,\" \",\"Tussen de tengels t.p.v. muurplaat:\")","v":{"$error":"#N/A"}}]
["SlimFix-XT 3/3R",{"v":3,"d":"3.0"},"SlimFix-XT 3/3R 3",3,8.9,"Schroef 160xØ6",100,{"$f":"CEILING(SlimFix!$D$32*SlimFix!$J$44/1020,1)","v":0},{"$f":"CEILING(SlimFix!$D$50*SlimFix!$J$57/1020,1)","v":0},{"$f":"((H25*SlimFix!$D$35)+(I25*SlimFix!$D$52))*3","v":0},"Schroef 160xØ6",100,6,{"$f":"IF(calcu!$I$42<=0,0,calcu!$I$42)","v":{"$error":"#N/A"}},{"$f":"IF(calcu!$U$42<=0,0,calcu!$U$42)","v":{"$error":"#N/A"}},{"$error":"#N/A"},null,"Schroef 160xØ6",{"$f":"CEILING((J25+P25)/G25,1)","v":{"$error":"#N/A"}},null,null,{"$error":"#N/A"},"Luchtdichte afdekprofielen",{"$f":"CEILING((H25*(SlimFix!$J$32/1000))+(I25*(SlimFix!$J$50/1000)),1)","v":0},"Door de tengel t.p.v. elke onderliggende gording/muurplaat:",3,{"$error":"#N/A"}]
["SlimFix-XT 3/3R",3.5,"SlimFix-XT 3/3R 3,5",3,9.2,"Schroef 180xØ6",100,{"$f":"CEILING(SlimFix!$D$32*SlimFix!$J$44/1020,1)","v":0},{"$f":"CEILING(SlimFix!$D$50*SlimFix!$J$57/1020,1)","v":0},{"$f":"((H26*SlimFix!$D$35)+(I26*SlimFix!$D$52))*3","v":0},"Schroef 180xØ6",100,6,{"$f":"IF(calcu!$I$42<=0,0,calcu!$I$42)","v":{"$error":"#N/A"}},{"$f":"IF(calcu!$U$42<=0,0,calcu!$U$42)","v":{"$error":"#N/A"}},{"$f":"(H26*N26)+(I26*O26)","v":{"$error":"#N/A"}},null,"Schroef 180xØ6",{"$f":"CEILING((J26+P26)/G26,1)","v":{"$error":"#N/A"}},null,null,{"$f":"CEILING(P26/100,1)","v":{"$error":"#N/A"}},"Luchtdichte afdekprofielen",{"$f":"CEILING((H26*(SlimFix!$J$32/1000))+(I26*(SlimFix!$J$50/1000)),1)","v":0},"Door de tengel t.p.v. elke onderliggende gording/muurplaat:",3,{"$f":"IF(P26=0,\" \",\"Tussen de tengels t.p.v. muurplaat:\")","v":{"$error":"#N/A"}}]
["SlimFix-XT 3/3R",{"v":4,"d":"4.0"},"SlimFix-XT 3/3R 4",3,9.5,"Schroef 200xØ6",100,{"$f":"CEILING(SlimFix!$D$32*SlimFix!$J$44/1020,1)","v":0},{"$f":"CEILING(SlimFix!$D$50*SlimFix!$J$57/1020,1)","v":0},{"$f":"((H27*SlimFix!$D$35)+(I27*SlimFix!$D$52))*3","v":0},"Schroef 200xØ6",100,6,{"$f":"IF(calcu!$I$42<=0,0,calcu!$I$42)","v":{"$error":"#N/A"}},{"$f":"IF(calcu!$U$42<=0,0,calcu!$U$42)","v":{"$error":"#N/A"}},{"$error":"#N/A"},null,"Schroef 200xØ6",{"$f":"CEILING((J27+P27)/G27,1)","v":{"$error":"#N/A"}},null,null,{"$error":"#N/A"},"Luchtdichte afdekprofielen",{"$f":"CEILING((H27*(SlimFix!$J$32/1000))+(I27*(SlimFix!$J$50/1000)),1)","v":0},"Door de tengel t.p.v. elke onderliggende gording/muurplaat:",3,{"$error":"#N/A"}]
["SlimFix-XT 3/3R",4.5,"SlimFix-XT 3/3R 4,5",3,9.7,"Schroef 220xØ6",100,{"$f":"CEILING(SlimFix!$D$32*SlimFix!$J$44/1020,1)","v":0},{"$f":"CEILING(SlimFix!$D$50*SlimFix!$J$57/1020,1)","v":0},{"$f":"((H28*SlimFix!$D$35)+(I28*SlimFix!$D$52))*3","v":0},"Schroef 220xØ6",100,6,{"$f":"IF(calcu!$I$42<=0,0,calcu!$I$42)","v":{"$error":"#N/A"}},{"$f":"IF(calcu!$U$42<=0,0,calcu!$U$42)","v":{"$error":"#N/A"}},{"$error":"#N/A"},null,"Schroef 220xØ6",{"$error":"#N/A"},null,null,{"$error":"#N/A"},"Luchtdichte afdekprofielen",{"$f":"CEILING((H28*(SlimFix!$J$32/1000))+(I28*(SlimFix!$J$50/1000)),1)","v":0},"Door de tengel t.p.v. elke onderliggende gording/muurplaat:",3,{"$error":"#N/A"}]
["SlimFix-XT 3/3R",{"v":5,"d":"5.0"},"SlimFix-XT 3/3R 5",3,{"v":10,"d":"10.0"},"Schroef 240xØ6",100,{"$f":"CEILING(SlimFix!$D$32*SlimFix!$J$44/1020,1)","v":0},{"$f":"CEILING(SlimFix!$D$50*SlimFix!$J$57/1020,1)","v":0},{"$f":"((H29*SlimFix!$D$35)+(I29*SlimFix!$D$52))*3","v":0},"Schroef 240xØ6",100,6,{"$f":"IF(calcu!$I$42<=0,0,calcu!$I$42)","v":{"$error":"#N/A"}},{"$f":"IF(calcu!$U$42<=0,0,calcu!$U$42)","v":{"$error":"#N/A"}},{"$error":"#N/A"},null,"Schroef 240xØ6",{"$error":"#N/A"},null,null,{"$error":"#N/A"},"Luchtdichte afdekprofielen",{"$f":"CEILING((H29*(SlimFix!$J$32/1000))+(I29*(SlimFix!$J$50/1000)),1)","v":0},"Door de tengel t.p.v. elke onderliggende gording/muurplaat:",3,{"$error":"#N/A"}]
["SlimFix-XT 3/3R",5.5,"SlimFix-XT 3/3R 5,5",3,10.3,"Schroef 240xØ6",100,{"$f":"CEILING(SlimFix!$D$32*SlimFix!$J$44/1020,1)","v":0},{"$f":"CEILING(SlimFix!$D$50*SlimFix!$J$57/1020,1)","v":0},{"$f":"((H30*SlimFix!$D$35)+(I30*SlimFix!$D$52))*3","v":0},"Schroef 240xØ6",100,6,{"$f":"IF(calcu!$I$42<=0,0,calcu!$I$42)","v":{"$error":"#N/A"}},{"$f":"IF(calcu!$U$42<=0,0,calcu!$U$42)","v":{"$error":"#N/A"}},{"$error":"#N/A"},null,"Schroef 240xØ6",{"$error":"#N/A"},null,null,{"$error":"#N/A"},"Luchtdichte afdekprofielen",{"$f":"CEILING((H30*(SlimFix!$J$32/1000))+(I30*(SlimFix!$J$50/1000)),1)","v":0},"Door de tengel t.p.v. elke onderliggende gording/muurplaat:",3,{"$error":"#N/A"}]
["SlimFix-XT 3/3R",6.3,{"$f":"A31&\" \"&B31","v":"SlimFix-XT 3/3R 6,3"},3,10.7,"Schroef 280xØ6",100,{"$f":"CEILING(SlimFix!$D$32*SlimFix!$J$44/1020,1)","v":0},{"$f":"CEILING(SlimFix!$D$50*SlimFix!$J$57/1020,1)","v":0},{"$f":"((H31*SlimFix!$D$35)+(I31*SlimFix!$D$52))*3","v":0},"Schroef 280xØ6",100,6,{"$f":"IF(calcu!$I$42<=0,0,calcu!$I$42)","v":{"$error":"#N/A"}},{"$f":"IF(calcu!$U$42<=0,0,calcu!$U$42)","v":{"$error":"#N/A"}},{"$error":"#N/A"},null,"Schroef 280xØ6",{"$error":"#N/A"},null,null,{"$error":"#N/A"},"Luchtdichte afdekprofielen",{"$f":"CEILING((H31*(SlimFix!$J$32/1000))+(I31*(SlimFix!$J$50/1000)),1)","v":0},"Door de tengel t.p.v. elke onderliggende gording/muurplaat:",3,{"$error":"#N/A"}]
["SlimFix-XT 3/3R",{"v":7,"d":"7.0"},"SlimFix-XT 3/3R 7",3,11.1,"Schroef 300xØ6",100,{"$f":"CEILING(SlimFix!$D$32*SlimFix!$J$44/1020,1)","v":0},{"$f":"CEILING(SlimFix!$D$50*SlimFix!$J$57/1020,1)","v":0},{"$f":"((H32*SlimFix!$D$35)+(I32*SlimFix!$D$52))*3","v":0},"Schroef 300xØ6",100,6,{"$f":"IF(calcu!$I$42<=0,0,calcu!$I$42)","v":{"$error":"#N/A"}},{"$f":"IF(calcu!$U$42<=0,0,calcu!$U$42)","v":{"$error":"#N/A"}},{"$error":"#N/A"},null,"Schroef 300xØ6",{"$error":"#N/A"},null,null,{"$error":"#N/A"},"Luchtdichte afdekprofielen",{"$f":"CEILING((H32*(SlimFix!$J$32/1000))+(I32*(SlimFix!$J$50/1000)),1)","v":0},"Door de tengel t.p.v. elke onderliggende gording/muurplaat:",3,{"$error":"#N/A"}]
["SlimFix-XT 8/8L",2.5,"SlimFix-XT 8/8L 2,5",8,17.2,"Schroef 160xØ6",100,{"$f":"CEILING(SlimFix!$D$32*SlimFix!$J$44/1020,1)","v":0},{"$f":"CEILING(SlimFix!$D$50*SlimFix!$J$57/1020,1)","v":0},{"$f":"((H33*SlimFix!$D$35)+(I33*SlimFix!$D$52))*3","v":0},"Schroef 160xØ6",100,6,{"$f":"IF(calcu!$I$34<=0,0,calcu!$I$34)","v":{"$error":"#N/A"}},{"$f":"IF(OR(I33=0,calcu!$U$34<=0),0,calcu!$U$34)","v":{"$error":"#N/A"}},{"$error":"#N/A"},null,"Schroef 160xØ6",{"$error":"#N/A"},null,null,{"$error":"#N/A"},"Luchtdichte afdekprofielen",{"$f":"CEILING((H33*(SlimFix!$J$32/1000))+(I33*(SlimFix!$J$50/1000)),1)","v":0},"Door de tengel t.p.v. elke onderliggende gording/muurplaat:",3,"Tussen de tengels t.p.v. de plaatvaste oplegging/muurplaat:"]
["SlimFix-XT 8/8L",{"v":3,"d":"3.0"},"SlimFix-XT 8/8L 3",8,17.8,"Schroef 180xØ6",100,{"$f":"CEILING(SlimFix!$D$32*SlimFix!$J$44/1020,1)","v":0},{"$f":"CEILING(SlimFix!$D$50*SlimFix!$J$57/1020,1)","v":0},{"$f":"((H34*SlimFix!$D$35)+(I34*SlimFix!$D$52))*3","v":0},"Schroef 180xØ6",100,6,{"$f":"IF(calcu!$I$34<=0,0,calcu!$I$34)","v":{"$error":"#N/A"}},{"$f":"IF(OR(I34=0,calcu!$U$34<=0),0,calcu!$U$34)","v":{"$error":"#N/A"}},{"$error":"#N/A"},null,"Schroef 180xØ6",{"$error":"#N/A"},null,null,{"$error":"#N/A"},"Luchtdichte afdekprofielen",{"$f":"CEILING((H34*(SlimFix!$J$32/1000))+(I34*(SlimFix!$J$50/1000)),1)","v":0},"Door de tengel t.p.v. elke onderliggende gording/muurplaat:",3,"Tussen de tengels t.p.v. de plaatvaste oplegging/muurplaat:"]
["SlimFix-XT 8/8L",3.5,{"$f":"A35&\" \"&B35","v":"SlimFix-XT 8/8L 3,5"},8,18.6,"Schroef 200xØ6",100,{"$f":"CEILING(SlimFix!$D$32*SlimFix!$J$44/1020,1)","v":0},{"$f":"CEILING(SlimFix!$D$50*SlimFix!$J$57/1020,1)","v":0},{"$f":"((H35*SlimFix!$D$35)+(I35*SlimFix!$D$52))*3","v":0},"Schroef 200xØ6",100,6,{"$f":"IF(calcu!$I$34<=0,0,calcu!$I$34)","v":{"$error":"#N/A"}},{"$f":"IF(OR(I35=0,calcu!$U$34<=0),0,calcu!$U$34)","v":{"$error":"#N/A"}},{"$f":"(H35*N35)+(I35*O35)","v":{"$error":"#N/A"}},null,"Schroef 200xØ6",{"$error":"#N/A"},null,null,{"$f":"CEILING(P35/100,1)","v":{"$error":"#N/A"}},"Luchtdichte afdekprofielen",{"$f":"CEILING((H35*(SlimFix!$J$32/1000))+(I35*(SlimFix!$J$50/1000)),1)","v":0},"Door de tengel t.p.v. elke onderliggende gording/muurplaat:",3,"Tussen de tengels t.p.v. de plaatvaste oplegging/muurplaat:"]
["SlimFix-XT 8/8L",{"v":4,"d":"4.0"},"SlimFix-XT 8/8L 4",8,19.2,"Schroef 220xØ6",100,{"$f":"CEILING(SlimFix!$D$32*SlimFix!$J$44/1020,1)","v":0},{"$f":"CEILING(SlimFix!$D$50*SlimFix!$J$57/1020,1)","v":0},{"$f":"((H36*SlimFix!$D$35)+(I36*SlimFix!$D$52))*3","v":0},"Schroef 220xØ6",100,6,{"$f":"IF(calcu!$I$34<=0,0,calcu!$I$34)","v":{"$error":"#N/A"}},{"$f":"IF(OR(I36=0,calcu!$U$34<=0),0,calcu!$U$34)","v":{"$error":"#N/A"}},{"$error":"#N/A"},null,"Schroef 220xØ6",{"$error":"#N/A"},null,null,{"$error":"#N/A"},"Luchtdichte afdekprofielen",{"$f":"CEILING((H36*(SlimFix!$J$32/1000))+(I36*(SlimFix!$J$50/1000)),1)","v":0},"Door de tengel t.p.v. elke onderliggende gording/muurplaat:",3,"Tussen de tengels t.p.v. de plaatvaste oplegging/muurplaat:"]
["SlimFix-XT 8/8L",4.5,"SlimFix-XT 8/8L 4,5",8,{"v":20,"d":"20.0"},"Schroef 240xØ6",100,{"$f":"CEILING(SlimFix!$D$32*SlimFix!$J$44/1020,1)","v":0},{"$f":"CEILING(SlimFix!$D$50*SlimFix!$J$57/1020,1)","v":0},{"$f":"((H37*SlimFix!$D$35)+(I37*SlimFix!$D$52))*3","v":0},"Schroef 240xØ6",100,6,{"$f":"IF(calcu!$I$34<=0,0,calcu!$I$34)","v":{"$error":"#N/A"}},{"$f":"IF(OR(I37=0,calcu!$U$34<=0),0,calcu!$U$34)","v":{"$error":"#N/A"}},{"$error":"#N/A"},null,"Schroef 240xØ6",{"$error":"#N/A"},null,null,{"$error":"#N/A"},"Luchtdichte afdekprofielen",{"$f":"CEILING((H37*(SlimFix!$J$32/1000))+(I37*(SlimFix!$J$50/1000)),1)","v":0},"Door de tengel t.p.v. elke onderliggende gording/muurplaat:",3,"Tussen de tengels t.p.v. de plaatvaste oplegging/muurplaat:"]
["SlimFix-XT 8/8L",{"v":5,"d":"5.0"},"SlimFix-XT 8/8L 5",8,20.6,"Schroef 260xØ6",100,{"$f":"CEILING(SlimFix!$D$32*SlimFix!$J$44/1020,1)","v":0},{"$f":"CEILING(SlimFix!$D$50*SlimFix!$J$57/1020,1)","v":0},{"$f":"((H38*SlimFix!$D$35)+(I38*SlimFix!$D$52))*3","v":0},"Schroef 260xØ6",100,6,{"$f":"IF(calcu!$I$34<=0,0,calcu!$I$34)","v":{"$error":"#N/A"}},{"$f":"IF(OR(I38=0,calcu!$U$34<=0),0,calcu!$U$34)","v":{"$error":"#N/A"}},{"$error":"#N/A"},null,"Schroef 260xØ6",{"$error":"#N/A"},null,null,{"$error":"#N/A"},"Luchtdichte afdekprofielen",{"$f":"CEILING((H38*(SlimFix!$J$32/1000))+(I38*(SlimFix!$J$50/1000)),1)","v":0},"Door de tengel t.p.v. elke onderliggende gording/muurplaat:",3,"Tussen de tengels t.p.v. de plaatvaste oplegging/muurplaat:"]
["SlimFix-XT 8/8L",5.5,"SlimFix-XT 8/8L 5,5",8,21.1,"Schroef 280xØ6",100,{"$f":"CEILING(SlimFix!$D$32*SlimFix!$J$44/1020,1)","v":0},{"$f":"CEILING(SlimFix!$D$50*SlimFix!$J$57/1020,1)","v":0},{"$f":"((H39*SlimFix!$D$35)+(I39*SlimFix!$D$52))*3","v":0},"Schroef 280xØ6",100,6,{"$f":"IF(calcu!$I$34<=0,0,calcu!$I$34)","v":{"$error":"#N/A"}},{"$f":"IF(OR(I39=0,calcu!$U$34<=0),0,calcu!$U$34)","v":{"$error":"#N/A"}},{"$error":"#N/A"},null,"Schroef 280xØ6",{"$error":"#N/A"},null,null,{"$error":"#N/A"},"Luchtdichte afdekprofielen",{"$f":"CEILING((H39*(SlimFix!$J$32/1000))+(I39*(SlimFix!$J$50/1000)),1)","v":0},"Door de tengel t.p.v. elke onderliggende gording/muurplaat:",3,"Tussen de tengels t.p.v. de plaatvaste oplegging/muurplaat:"]
["SlimFix-XT 8/8L",6.3,"SlimFix-XT 8/8L 6,3",8,22.2,"Schroef 300xØ6",100,{"$f":"CEILING(SlimFix!$D$32*SlimFix!$J$44/1020,1)","v":0},{"$f":"CEILING(SlimFix!$D$50*SlimFix!$J$57/1020,1)","v":0},{"$f":"((H40*SlimFix!$D$35)+(I40*SlimFix!$D$52))*3","v":0},"Schroef 300xØ6",100,6,{"$f":"IF(calcu!$I$34<=0,0,calcu!$I$34)","v":{"$error":"#N/A"}},{"$f":"IF(OR(I40=0,calcu!$U$34<=0),0,calcu!$U$34)","v":{"$error":"#N/A"}},{"$error":"#N/A"},null,"Schroef 300xØ6",{"$error":"#N/A"},null,null,{"$error":"#N/A"},"Luchtdichte afdekprofielen",{"$f":"CEILING((H40*(SlimFix!$J$32/1000))+(I40*(SlimFix!$J$50/1000)),1)","v":0},"Door de tengel t.p.v. elke onderliggende gording/muurplaat:",3,"Tussen de tengels t.p.v. de plaatvaste oplegging/muurplaat:"]
["SlimFix-XT 8/8L",{"v":7,"d":"7.0"},"SlimFix-XT 8/8L 7",8,23.1,"Schroef 300xØ6",100,{"$f":"CEILING(SlimFix!$D$32*SlimFix!$J$44/1020,1)","v":0},{"$f":"CEILING(SlimFix!$D$50*SlimFix!$J$57/1020,1)","v":0},{"$f":"((H41*SlimFix!$D$35)+(I41*SlimFix!$D$52))*2","v":0},"Schroef 300xØ6",100,6,{"$f":"IF(calcu!$I$34<=0,0,calcu!$I$34+1)","v":{"$error":"#N/A"}},{"$f":"IF(OR(I41=0,calcu!$U$34<=0),0,calcu!$U$34+1)","v":{"$error":"#N/A"}},{"$error":"#N/A"},null,"Schroef 300xØ6",null,{"$f":"K41","v":"Schroef 300xØ6"},{"$f":"CEILING((P41+J41)/L41,1)","v":{"$error":"#N/A"}},{"$f":"CEILING((P41+J41)/100,1)","v":{"$error":"#N/A"}},"Luchtdichte afdekprofielen",{"$f":"CEILING((H41*(SlimFix!$J$32/1000))+(I41*(SlimFix!$J$50/1000)),1)","v":0},"Tussen de tengel t.p.v. elke onderliggende gording/muurplaat:",2,"Tussen de tengels t.p.v. de plaatvaste oplegging/muurplaat:"]
["SlimFix-XT 8/8R",2.5,"SlimFix-XT 8/8R 2,5",8,15.8,"Schroef 160xØ6",100,{"$f":"CEILING(SlimFix!$D$32*SlimFix!$J$44/1020,1)","v":0},{"$f":"CEILING(SlimFix!$D$50*SlimFix!$J$57/1020,1)","v":0},{"$f":"((H42*SlimFix!$D$35)+(I42*SlimFix!$D$52))*3","v":0},"Schroef 160xØ6",100,6,{"$f":"IF(calcu!$I$43<=0,0,calcu!$I$43)","v":{"$error":"#N/A"}},{"$f":"IF(calcu!$U$43<=0,0,calcu!$U$43)","v":{"$error":"#N/A"}},{"$error":"#N/A"},null,"Schroef 160xØ6",{"$f":"CEILING((J42+P42)/G42,1)","v":{"$error":"#N/A"}},null,null,{"$f":"CEILING(P42/100,1)","v":{"$error":"#N/A"}},"Luchtdichte afdekprofielen",{"$f":"CEILING((H42*(SlimFix!$J$32/1000))+(I42*(SlimFix!$J$50/1000)),1)","v":0},"Door de tengel t.p.v. elke onderliggende gording/muurplaat:",3,{"$f":"IF(P42=0,\" \",\"Tussen de tengels t.p.v. muurplaat:\")","v":{"$error":"#N/A"}}]
["SlimFix-XT 8/8R",{"v":3,"d":"3.0"},"SlimFix-XT 8/8R 3",8,16.1,"Schroef 180xØ6",100,{"$f":"CEILING(SlimFix!$D$32*SlimFix!$J$44/1020,1)","v":0},{"$f":"CEILING(SlimFix!$D$50*SlimFix!$J$57/1020,1)","v":0},{"$f":"((H43*SlimFix!$D$35)+(I43*SlimFix!$D$52))*3","v":0},"Schroef 180xØ6",100,6,{"$f":"IF(calcu!$I$43<=0,0,calcu!$I$43)","v":{"$error":"#N/A"}},{"$f":"IF(calcu!$U$43<=0,0,calcu!$U$43)","v":{"$error":"#N/A"}},{"$error":"#N/A"},null,"Schroef 180xØ6",{"$error":"#N/A"},null,null,{"$error":"#N/A"},"Luchtdichte afdekprofielen",{"$f":"CEILING((H43*(SlimFix!$J$32/1000))+(I43*(SlimFix!$J$50/1000)),1)","v":0},"Door de tengel t.p.v. elke onderliggende gording/muurplaat:",3,{"$error":"#N/A"}]
["SlimFix-XT 8/8R",3.5,"SlimFix-XT 8/8R 3,5",8,16.4,"Schroef 200xØ6",100,{"$f":"CEILING(SlimFix!$D$32*SlimFix!$J$44/1020,1)","v":0},{"$f":"CEILING(SlimFix!$D$50*SlimFix!$J$57/1020,1)","v":0},{"$f":"((H44*SlimFix!$D$35)+(I44*SlimFix!$D$52))*3","v":0},"Schroef 200xØ6",100,6,{"$f":"IF(calcu!$I$43<=0,0,calcu!$I$43)","v":{"$error":"#N/A"}},{"$f":"IF(calcu!$U$43<=0,0,calcu!$U$43)","v":{"$error":"#N/A"}},{"$error":"#N/A"},null,"Schroef 200xØ6",{"$error":"#N/A"},null,null,{"$error":"#N/A"},"Luchtdichte afdekprofielen",{"$f":"CEILING((H44*(SlimFix!$J$32/1000))+(I44*(SlimFix!$J$50/1000)),1)","v":0},"Door de tengel t.p.v. elke onderliggende gording/muurplaat:",3,{"$f":"IF(P44=0,\" \",\"Tussen de tengels t.p.v. muurplaat:\")","v":{"$error":"#N/A"}}]
["SlimFix-XT 8/8R",{"v":4,"d":"4.0"},"SlimFix-XT 8/8R 4",8,16.7,"Schroef 220xØ6",100,{"$f":"CEILING(SlimFix!$D$32*SlimFix!$J$44/1020,1)","v":0},{"$f":"CEILING(SlimFix!$D$50*SlimFix!$J$57/1020,1)","v":0},{"$f":"((H45*SlimFix!$D$35)+(I45*SlimFix!$D$52))*3","v":0},"Schroef 220xØ6",100,6,{"$f":"IF(calcu!$I$43<=0,0,calcu!$I$43)","v":{"$error":"#N/A"}},{"$f":"IF(calcu!$U$43<=0,0,calcu!$U$43)","v":{"$error":"#N/A"}},{"$error":"#N/A"},null,"Schroef 220xØ6",{"$error":"#N/A"},null,null,{"$error":"#N/A"},"Luchtdichte afdekprofielen",{"$f":"CEILING((H45*(SlimFix!$J$32/1000))+(I45*(SlimFix!$J$50/1000)),1)","v":0},"Door de tengel t.p.v. elke onderliggende gording/muurplaat:",3,{"$error":"#N/A"}]
["SlimFix-XT 8/8R",4.5,"SlimFix-XT 8/8R 4,5",8,16.9,"Schroef 220xØ6",100,{"$f":"CEILING(SlimFix!$D$32*SlimFix!$J$44/1020,1)","v":0},{"$f":"CEILING(SlimFix!$D$50*SlimFix!$J$57/1020,1)","v":0},{"$f":"((H46*SlimFix!$D$35)+(I46*SlimFix!$D$52))*3","v":0},"Schroef 220xØ6",100,6,{"$f":"IF(calcu!$I$43<=0,0,calcu!$I$43)","v":{"$error":"#N/A"}},{"$f":"IF(calcu!$U$43<=0,0,calcu!$U$43)","v":{"$error":"#N/A"}},{"$error":"#N/A"},null,"Schroef 220xØ6",{"$error":"#N/A"},null,null,{"$error":"#N/A"},"Luchtdichte afdekprofielen",{"$f":"CEILING((H46*(SlimFix!$J$32/1000))+(I46*(SlimFix!$J$50/1000)),1)","v":0},"Door de tengel t.p.v. elke onderliggende gording/muurplaat:",3,{"$error":"#N/A"}]
["SlimFix-XT 8/8R",{"v":5,"d":"5.0"},"SlimFix-XT 8/8R 5",8,17.2,"Schroef 240xØ6",100,{"$f":"CEILING(SlimFix!$D$32*SlimFix!$J$44/1020,1)","v":0},{"$f":"CEILING(SlimFix!$D$50*SlimFix!$J$57/1020,1)","v":0},{"$f":"((H47*SlimFix!$D$35)+(I47*SlimFix!$D$52))*3","v":0},"Schroef 240xØ6",100,6,{"$f":"IF(calcu!$I$43<=0,0,calcu!$I$43)","v":{"$error":"#N/A"}},{"$f":"IF(calcu!$U$43<=0,0,calcu!$U$43)","v":{"$error":"#N/A"}},{"$error":"#N/A"},null,"Schroef 240xØ6",{"$error":"#N/A"},null,null,{"$error":"#N/A"},"Luchtdichte afdekprofielen",{"$f":"CEILING((H47*(SlimFix!$J$32/1000))+(I47*(SlimFix!$J$50/1000)),1)","v":0},"Door de tengel t.p.v. elke onderliggende gording/muurplaat:",3,{"$error":"#N/A"}]
["SlimFix-XT 8/8R",5.5,"SlimFix-XT 8/8R 5,5",8,17.5,"Schroef 260xØ6",100,{"$f":"CEILING(SlimFix!$D$32*SlimFix!$J$44/1020,1)","v":0},{"$f":"CEILING(SlimFix!$D$50*SlimFix!$J$57/1020,1)","v":0},{"$f":"((H48*SlimFix!$D$35)+(I48*SlimFix!$D$52))*3","v":0},"Schroef 260xØ6",100,6,{"$f":"IF(calcu!$I$43<=0,0,calcu!$I$43)","v":{"$error":"#N/A"}},{"$f":"IF(calcu!$U$43<=0,0,calcu!$U$43)","v":{"$error":"#N/A"}},{"$error":"#N/A"},null,"Schroef 260xØ6",{"$error":"#N/A"},null,null,{"$error":"#N/A"},"Luchtdichte afdekprofielen",{"$f":"CEILING((H48*(SlimFix!$J$32/1000))+(I48*(SlimFix!$J$50/1000)),1)","v":0},"Door de tengel t.p.v. elke onderliggende gording/muurplaat:",3,{"$error":"#N/A"}]
["SlimFix-XT 8/8R",6.3,"SlimFix-XT 8/8R 6,3",8,17.9,"Schroef 280xØ6",100,{"$f":"CEILING(SlimFix!$D$32*SlimFix!$J$44/1020,1)","v":0},{"$f":"CEILING(SlimFix!$D$50*SlimFix!$J$57/1020,1)","v":0},{"$f":"((H49*SlimFix!$D$35)+(I49*SlimFix!$D$52))*3","v":0},"Schroef 280xØ6",100,6,{"$f":"IF(calcu!$I$43<=0,0,calcu!$I$43)","v":{"$error":"#N/A"}},{"$f":"IF(calcu!$U$43<=0,0,calcu!$U$43)","v":{"$error":"#N/A"}},{"$error":"#N/A"},null,"Schroef 280xØ6",{"$error":"#N/A"},null,null,{"$error":"#N/A"},"Luchtdichte afdekprofielen",{"$f":"CEILING((H49*(SlimFix!$J$32/1000))+(I49*(SlimFix!$J$50/1000)),1)","v":0},"Door de tengel t.p.v. elke onderliggende gording/muurplaat:",3,{"$error":"#N/A"}]
["SlimFix-XT 8/8R",{"v":7,"d":"7.0"},"SlimFix-XT 8/8R 7",8,18.3,"Schroef 300xØ6",100,{"$f":"CEILING(SlimFix!$D$32*SlimFix!$J$44/1020,1)","v":0},{"$f":"CEILING(SlimFix!$D$50*SlimFix!$J$57/1020,1)","v":0},{"$f":"((H50*SlimFix!$D$35)+(I50*SlimFix!$D$52))*3","v":0},"Schroef 300xØ6",100,6,{"$f":"IF(calcu!$I$43<=0,0,calcu!$I$43)","v":{"$error":"#N/A"}},{"$f":"IF(calcu!$U$43<=0,0,calcu!$U$43)","v":{"$error":"#N/A"}},{"$error":"#N/A"},null,"Schroef 300xØ6",{"$error":"#N/A"},null,null,{"$error":"#N/A"},"Luchtdichte afdekprofielen",{"$f":"CEILING((H50*(SlimFix!$J$32/1000))+(I50*(SlimFix!$J$50/1000)),1)","v":0},"Door de tengel t.p.v. elke onderliggende gording/muurplaat:",3,{"$error":"#N/A"}]
["SlimFix-XT Passief",{"v":10,"d":"10.0"},"SlimFix-XT Passief 10",8,33,"Schroef 400xØ8",50,{"$f":"CEILING(SlimFix!$D$32*SlimFix!$J$44/1020,1)","v":0},{"$f":"CEILING(SlimFix!$D$50*SlimFix!$J$57/1020,1)","v":0},{"$f":"((H51*SlimFix!$D$35)+(I51*SlimFix!$D$52))*2","v":0},"Schroef 400xØ8",50,8,{"$f":"IF(calcu!$I$35<=0,0,calcu!$I$35)","v":{"$error":"#N/A"}},{"$f":"IF(OR(I51=0,calcu!$U$35<=0),0,calcu!$U$35)","v":{"$error":"#N/A"}},{"$f":"(H51*N51)+(I51*O51)","v":{"$error":"#N/A"}},{"$nulls":3},{"$f":"K51","v":"Schroef 400xØ8"},{"$f":"CEILING((P51+J51)/L51,1)","v":{"$error":"#N/A"}},{"$f":"CEILING((P51+J51)/100,1)","v":{"$error":"#N/A"}},"Luchtdichte afdekprofielen",{"$f":"CEILING((H51*(SlimFix!$J$32/1000))+(I51*(SlimFix!$J$50/1000)),1)","v":0},"Tussen de tengel t.p.v. elke onderliggende gording/muurplaat:",2,"Tussen de tengels t.p.v. de plaatvaste oplegging/muurplaat:"]
["SlimFix-XT Passief",{"v":9,"d":"9.0"},{"$f":"A52&\" \"&B52","v":"SlimFix-XT Passief 9"},8,32.5,"Schroef 380xØ8",50,{"$f":"CEILING(SlimFix!$D$32*SlimFix!$J$44/1020,1)","v":0},{"$f":"CEILING(SlimFix!$D$50*SlimFix!$J$57/1020,1)","v":0},{"$f":"((H52*SlimFix!$D$35)+(I52*SlimFix!$D$52))*2","v":0},"Schroef 380xØ8",50,8,{"$f":"IF(calcu!$I$35<=0,0,calcu!$I$35)","v":{"$error":"#N/A"}},{"$f":"IF(OR(I52=0,calcu!$U$35<=0),0,calcu!$U$35)","v":{"$error":"#N/A"}},{"$f":"(H52*N52)+(I52*O52)","v":{"$error":"#N/A"}},{"$nulls":3},{"$f":"K52","v":"Schroef 380xØ8"},{"$f":"CEILING((P52+J52)/L52,1)","v":{"$error":"#N/A"}},{"$f":"CEILING((P52+J52)/100,1)","v":{"$error":"#N/A"}},"Luchtdichte afdekprofielen",{"$f":"CEILING((H52*(SlimFix!$J$32/1000))+(I52*(SlimFix!$J$50/1000)),1)","v":0},"Tussen de tengel t.p.v. elke onderliggende gording/muurplaat:",2,"Tussen de tengels t.p.v. de plaatvaste oplegging/muurplaat:"]
["SlimFix-XT Passief M",{"v":8,"d":"8.0"},{"$f":"A53&\" \"&B53","v":"SlimFix-XT Passief M 8"},8,29,"Schroef 340xØ8",50,{"$f":"CEILING(SlimFix!$D$32*SlimFix!$J$44/1020,1)","v":0},{"$f":"CEILING(SlimFix!$D$50*SlimFix!$J$57/1020,1)","v":0},{"$f":"((H53*SlimFix!$D$35)+(I53*SlimFix!$D$52))*2","v":0},"Schroef 340xØ8",50,8,{"$f":"IF(calcu!$I$35<=0,0,calcu!$I$35)","v":{"$error":"#N/A"}},{"$f":"IF(OR(I53=0,calcu!$U$35<=0),0,calcu!$U$35)","v":{"$error":"#N/A"}},{"$f":"(H53*N53)+(I53*O53)","v":{"$error":"#N/A"}},{"$nulls":3},{"$f":"K53","v":"Schroef 340xØ8"},{"$f":"CEILING((P53+J53)/L53,1)","v":{"$error":"#N/A"}},{"$f":"CEILING((P53+J53)/100,1)","v":{"$error":"#N/A"}},"Max naadprofiel + Max luchtdicht afdekprofiel",{"$f":"CEILING((H53*(SlimFix!$J$32/1000))+(I53*(SlimFix!$J$50/1000)),1)","v":0},"Tussen de tengel t.p.v. elke onderliggende gording/muurplaat:",2,"Tussen de tengels t.p.v. de plaatvaste oplegging/muurplaat:"]
["SlimFix-XT Riet","2.5+4.0","SlimFix-XT Riet 2.5+4.0",3,14.1,"Schroef 140xØ6",100,{"$f":"CEILING(SlimFix!$D$32*SlimFix!$J$44/1020,1)","v":0},{"$f":"CEILING(SlimFix!$D$50*SlimFix!$J$57/1020,1)","v":0},{"$f":"((H54*(SlimFix!$D$35))+(I54*(SlimFix!$D$52)))*3","v":0},"Schroef 140xØ6",100,6,{"$f":"IF(calcu!$I$32<=0,0,calcu!$I$32)","v":{"$error":"#N/A"}},{"$f":"IF(OR(I54=0,calcu!$U$32<=0),0,calcu!$U$32)","v":{"$error":"#N/A"}},{"$error":"#N/A"},null,{"$f":"F54","v":"Schroef 140xØ6"},{"$f":"CEILING((J54+P54)/G54,1)","v":{"$error":"#N/A"}},{"$nulls":3},"Luchtdichte afdekprofielen",{"$f":"CEILING((H54*(SlimFix!$J$32/1000))+(I54*(SlimFix!$J$50/1000)),1)","v":0},"T.p.v. elke onderliggende gording/muurplaat:",3,"Extra t.p.v. de plaatvaste oplegging/muurplaat:"]
["SlimFix-XT Riet","3.0+4.0","SlimFix-XT Riet 3.0+4.0",3,14.7,"Schroef 160xØ6",100,{"$f":"CEILING(SlimFix!$D$32*SlimFix!$J$44/1020,1)","v":0},{"$f":"CEILING(SlimFix!$D$50*SlimFix!$J$57/1020,1)","v":0},{"$f":"((H55*(SlimFix!$D$35))+(I55*(SlimFix!$D$52)))*3","v":0},"Schroef 160xØ6",100,6,{"$f":"IF(calcu!$I$32<=0,0,calcu!$I$32)","v":{"$error":"#N/A"}},{"$f":"IF(OR(I55=0,calcu!$U$32<=0),0,calcu!$U$32)","v":{"$error":"#N/A"}},{"$f":"(H55*N55)+(I55*O55)","v":{"$error":"#N/A"}},null,"Schroef 160xØ6",{"$error":"#N/A"},{"$nulls":3},"Luchtdichte afdekprofielen",{"$f":"CEILING((H55*(SlimFix!$J$32/1000))+(I55*(SlimFix!$J$50/1000)),1)","v":0},"T.p.v. elke onderliggende gording/muurplaat:",3,"Extra t.p.v. de plaatvaste oplegging/muurplaat:"]
["SlimFix-XT Riet","3.5+4.0","SlimFix-XT Riet 3.5+4.0",3,15.5,"Schroef 180xØ8",50,{"$f":"CEILING(SlimFix!$D$32*SlimFix!$J$44/1020,1)","v":0},{"$f":"CEILING(SlimFix!$D$50*SlimFix!$J$57/1020,1)","v":0},{"$f":"((H56*(SlimFix!$D$35))+(I56*(SlimFix!$D$52)))*3","v":0},"Schroef 180xØ8",50,8,{"$f":"IF(calcu!$I$33<=0,0,calcu!$I$33)","v":{"$error":"#N/A"}},{"$f":"IF(OR(I56=0,calcu!$U$33<=0),0,calcu!$U$33)","v":{"$error":"#N/A"}},{"$error":"#N/A"},null,"Schroef 180xØ8",{"$error":"#N/A"},{"$nulls":3},"Luchtdichte afdekprofielen",{"$f":"CEILING((H56*(SlimFix!$J$32/1000))+(I56*(SlimFix!$J$50/1000)),1)","v":0},"T.p.v. elke onderliggende gording/muurplaat:",3,"Extra t.p.v. de plaatvaste oplegging/muurplaat:"]
["SlimFix-XT Riet","4.0+4.0","SlimFix-XT Riet 4.0+4.0",3,16.1,"Schroef 200xØ8",50,{"$f":"CEILING(SlimFix!$D$32*SlimFix!$J$44/1020,1)","v":0},{"$f":"CEILING(SlimFix!$D$50*SlimFix!$J$57/1020,1)","v":0},{"$f":"((H57*(SlimFix!$D$35))+(I57*(SlimFix!$D$52)))*3","v":0},"Schroef 200xØ8",50,8,{"$f":"IF(calcu!$I$33<=0,0,calcu!$I$33)","v":{"$error":"#N/A"}},{"$f":"IF(OR(I57=0,calcu!$U$33<=0),0,calcu!$U$33)","v":{"$error":"#N/A"}},{"$error":"#N/A"},null,"Schroef 200xØ8",{"$error":"#N/A"},{"$nulls":3},"Luchtdichte afdekprofielen",{"$f":"CEILING((H57*(SlimFix!$J$32/1000))+(I57*(SlimFix!$J$50/1000)),1)","v":0},"T.p.v. elke onderliggende gording/muurplaat:",3,"Extra t.p.v. de plaatvaste oplegging/muurplaat:"]
["SlimFix-XT Riet","4.5+4.0","SlimFix-XT Riet 4.5+4.0",3,16.8,"Schroef 220xØ8",50,{"$f":"CEILING(SlimFix!$D$32*SlimFix!$J$44/1020,1)","v":0},{"$f":"CEILING(SlimFix!$D$50*SlimFix!$J$57/1020,1)","v":0},{"$f":"((H58*(SlimFix!$D$35))+(I58*(SlimFix!$D$52)))*3","v":0},"Schroef 220xØ8",50,8,{"$f":"IF(calcu!$I$33<=0,0,calcu!$I$33)","v":{"$error":"#N/A"}},{"$f":"IF(OR(I58=0,calcu!$U$33<=0),0,calcu!$U$33)","v":{"$error":"#N/A"}},{"$error":"#N/A"},null,"Schroef 220xØ8",{"$error":"#N/A"},{"$nulls":3},"Luchtdichte afdekprofielen",{"$f":"CEILING((H58*(SlimFix!$J$32/1000))+(I58*(SlimFix!$J$50/1000)),1)","v":0},"T.p.v. elke onderliggende gording/muurplaat:",3,"Extra t.p.v. de plaatvaste oplegging/muurplaat:"]
["SlimFix-XT Riet","5.5+4.0","SlimFix-XT Riet 5.5+4.0",3,18,"Schroef 260xØ8",50,{"$f":"CEILING(SlimFix!$D$32*SlimFix!$J$44/1020,1)","v":0},{"$f":"CEILING(SlimFix!$D$50*SlimFix!$J$57/1020,1)","v":0},{"$f":"((H59*(SlimFix!$D$35))+(I59*(SlimFix!$D$52)))*3","v":0},"Schroef 260xØ8",50,8,{"$f":"IF(calcu!$I$33<=0,0,calcu!$I$33)","v":{"$error":"#N/A"}},{"$f":"IF(OR(I59=0,calcu!$U$33<=0),0,calcu!$U$33)","v":{"$error":"#N/A"}},{"$error":"#N/A"},null,"Schroef 260xØ8",{"$error":"#N/A"},{"$nulls":3},"Luchtdichte afdekprofielen",{"$f":"CEILING((H59*(SlimFix!$J$32/1000))+(I59*(SlimFix!$J$50/1000)),1)","v":0},"T.p.v. elke onderliggende gording/muurplaat:",3,"Extra t.p.v. de plaatvaste oplegging/muurplaat:"]
["SlimFix-XT Riet","6.3+4.0","SlimFix-XT Riet 6.3+4.0",3,18.9,"Schroef 280xØ8",50,{"$f":"CEILING(SlimFix!$D$32*SlimFix!$J$44/1020,1)","v":0},{"$f":"CEILING(SlimFix!$D$50*SlimFix!$J$57/1020,1)","v":0},{"$f":"((H60*(SlimFix!$D$35))+(I60*(SlimFix!$D$52)))*3","v":0},"Schroef 280xØ8",50,8,{"$f":"IF(calcu!$I$33<=0,0,calcu!$I$33)","v":{"$error":"#N/A"}},{"$f":"IF(OR(I60=0,calcu!$U$33<=0),0,calcu!$U$33)","v":{"$error":"#N/A"}},{"$error":"#N/A"},null,"Schroef 280xØ8",{"$error":"#N/A"},{"$nulls":3},"Luchtdichte afdekprofielen",{"$f":"CEILING((H60*(SlimFix!$J$32/1000))+(I60*(SlimFix!$J$50/1000)),1)","v":0},"T.p.v. elke onderliggende gording/muurplaat:",3,"Extra t.p.v. de plaatvaste oplegging/muurplaat:"]
["ATTENTIE: type op alfabetische volgorde"]
[]
[]
["_Type"]
["SlimFix-XT 3/3R"]
["SlimFix-XT 3/3L"]
["SlimFix-XT 8/8R"]
["SlimFix-XT 8/8L"]
["SlimFix-XT Passief"]
["SlimFix-XT PassiefM"]
["SlimFix-XT Riet"]
[]
[]
[2]
[3]
[4]
[5]
[6]
[]
[]
["1,2 of 3 bouwlagen (ééngezinswoning)"]
["Meer dan 3 bouwlagen (appartement, openbaar gebouw)"]

{"sheet":"lijst reno","index":7,"n_rows":15,"n_cols":13,"rows_kept":15,"hidden":true,"merged":[[0,0,2,2],[0,3,0,5],[1,3,1,5],[2,3,2,5],[14,0,18,9]]}
["Keuzevelden",null,null,"AANTAL BEVESTIGERS PER PLAAT"]
[]
[{"$nulls":3},"t.p.v. kruising tengel/gording",null,null,"dakvlak 1","dakvlak 2"]
["type","RC-waarde",null,"type","aantal","maat","aantal elem.","aantal elem.","schroef tot.",{"$nulls":3},"type"]
["SlimFix Reno+",2.5,{"$f":"A5&\" \"&B5","v":"SlimFix Reno+ 2,5"},"Schroef",6,"140xØ6",{"$f":"CEILING('SlimFix Reno+'!$D$29*'SlimFix Reno+'!$D$36/1000,1)","v":0},{"$f":"CEILING('SlimFix Reno+'!$D$40*'SlimFix Reno+'!$D$45/1000,1)","v":0},{"$f":"((G5*'SlimFix Reno+'!$D$32)+(H5*'SlimFix Reno+'!$D$42))*3","v":0},{"$nulls":3},{"$f":"'SlimFix Reno+'!D11&\" \"&'SlimFix Reno+'!J11","v":"SlimFix Reno+ "}]
["SlimFix Reno+",{"v":3,"d":"3.0"},{"$f":"A6&\" \"&B6","v":"SlimFix Reno+ 3"},"Schroef",6,"140xØ6",{"$nulls":3},"Horizontale RenoGoot S (1,95 m, RAL 7021)*","Verticale RenoGoot S (1,6 m, RAL 7021)"]
["SlimFix Reno+",3.5,"SlimFix Reno+ 3,5","Schroef",6,"160xØ6",{"$nulls":3},"Horizontale RenoGoot S (1,95 m, RAL 7021)*","Verticale RenoGoot S (1,6 m, RAL 7021)"]
["SlimFix Reno+",{"v":4,"d":"4.0"},"SlimFix Reno+ 4","Schroef",6,"180xØ6",{"$nulls":3},"Horizontale RenoGoot M (1,95 m, RAL 7021)*","Verticale RenoGoot M (1,6 m, RAL 7021)"]
["SlimFix Reno+",4.5,"SlimFix Reno+ 4,5","Schroef",6,"200xØ6",{"$nulls":3},"Horizontale RenoGoot M (1,95 m, RAL 7021)*","Verticale RenoGoot M (1,6 m, RAL 7021)"]
["SlimFix Reno+",{"v":5,"d":"5.0"},"SlimFix Reno+ 5","Schroef",6,"200xØ6",{"$nulls":3},"Horizontale RenoGoot M (1,95 m, RAL 7021)*","Verticale RenoGoot M (1,6 m, RAL 7021)"]
["SlimFix Reno+",6.3,"SlimFix Reno+ 6,3","Schroef",6,"260xØ6",{"$nulls":3},"Horizontale RenoGoot L (1,95 m, RAL 7021)*","Verticale RenoGoot L (1,6 m, RAL 7021)"]
["SlimFix Reno+",{"v":7,"d":"7.0"},"SlimFix Reno+ 7","Schroef",6,"280xØ6",{"$nulls":3},"Horizontale RenoGoot L (1,95 m, RAL 7021)*","Verticale RenoGoot L (1,6 m, RAL 7021)"]
["SlimFix Reno+",{"v":8,"d":"8.0"},"SlimFix Reno+ 8","Schroef",6,"300xØ6",{"$nulls":3},"Horizontale RenoGoot L (1,95 m, RAL 7021)*","Verticale RenoGoot L (1,6 m, RAL 7021)"]
[]
["* Het Horizontale RenoGoot-pakket bevat: 6x Horizontale RenoGoot (bestaande uit een kopplaat en een gootdeel), 14x brackets (ter versteviging\nen koppeling) en 30x RVS-schroeven met verzonken kop Ø4 mm x 32 mm TX.\n** Het Verticale RenoGoot-pakket bevat: 4x Verticale RenoGoot (bestaande uit een verholen goot en een afdekkap), 4x schuimrubberband (1,5 m) en 24x RVS-boorschroeven + rubberring Ø4.8 mm x 32 mm TX.\nAttentie: Bij gebruik van de RenoGoot altijd de SlimFix Reno+ platen met gootdetail bestellen."]

{"sheet":"lijst renotwin","index":8,"n_rows":342,"n_cols":14,"rows_kept":342,"hidden":true,"merged":[[18,0,22,10]]}
["Keuzevelden"]
[]
[{"$nulls":3},"dakvlak 1","dakvlak 2","dakvlak 1","dakvlak 2"]
["type","Type",null,"aantal elem.","aantal elem.","schroef tot.","schroef tot.",{"$nulls":3},"Afstand tussen schroeven in mm bij 67° bevestiging","Benodigde lengte in mm RenoTwin schroef",null,"type"]
["SlimFix RenoTwin",82,{"$f":"A5&\" \"&B5","v":"SlimFix RenoTwin 82"},{"$f":"CEILING('SlimFix RenoTwin'!$D$32*'SlimFix RenoTwin'!$J$42/1000,1)","v":0},{"$f":"CEILING('SlimFix RenoTwin'!$D$51*'SlimFix RenoTwin'!$J$57/1000,1)","v":0},{"$f":"((D5*'SlimFix RenoTwin'!$D$35))*3","v":0},{"$f":"((E5*'SlimFix RenoTwin'!D53))*3","v":0},"Horizontale RenoGoot S (1,95 m, RAL 7021)*","Verticale RenoGoot S (1,6 m, RAL 7021)",null,"(100","8x255",null,{"$f":"'SlimFix RenoTwin'!D11&\" \"&'SlimFix RenoTwin'!J11","v":"SlimFix RenoTwin "}]
["SlimFix RenoTwin",97,"SlimFix RenoTwin 97",{"$nulls":4},"Horizontale RenoGoot S (1,95 m, RAL 7021)*","Verticale RenoGoot S (1,6 m, RAL 7021)",null,"(115","8x275"]
["SlimFix RenoTwin",114,"SlimFix RenoTwin 114",{"$nulls":4},"Horizontale RenoGoot M (1,95 m, RAL 7021)*","Verticale RenoGoot M (1,6 m, RAL 7021)",null,"(125","8x302"]
["SlimFix RenoTwin",129,"SlimFix RenoTwin 129",{"$nulls":4},"Horizontale RenoGoot M (1,95 m, RAL 7021)*","Verticale RenoGoot M (1,6 m, RAL 7021)",null,"(125","8x302"]
["SlimFix RenoTwin",141,"SlimFix RenoTwin 141",{"$nulls":4},"Horizontale RenoGoot L (1,95 m, RAL 7021)*","Verticale RenoGoot L (1,6 m, RAL 7021)",null,"(140","8x335"]
["SlimFix RenoTwin",166,"SlimFix RenoTwin 166",{"$nulls":4},"Horizontale RenoGoot L (1,95 m, RAL 7021)*","Verticale RenoGoot L (1,6 m, RAL 7021)",null,"(140","8x365"]
["SlimFix RenoTwin",180,"SlimFix RenoTwin 180",{"$nulls":4},"Horizontale RenoGoot L (1,95 m, RAL 7021)*","Verticale RenoGoot L (1,6 m, RAL 7021)",null,"(150","8x365"]
["SlimFix RenoTwin",188,{"$f":"A12&\" \"&B12","v":"SlimFix RenoTwin 188"},{"$nulls":4},"Horizontale RenoGoot L (1,95 m, RAL 7021)*","Verticale RenoGoot L (1,6 m, RAL 7021)",null,"(150","8x365"]
["SlimFix RenoTwin",195,"SlimFix RenoTwin 195",{"$nulls":4},"Horizontale RenoGoot L (1,95 m, RAL 7021)*","Verticale RenoGoot L (1,6 m, RAL 7021)",null,"(150","8x365"]
["SlimFix RenoTwin",224,"SlimFix RenoTwin 224",{"$nulls":4},"Horizontale RenoGoot L (1,95 m, RAL 7021)*",null,null,"(160","8x397"]
["SlimFix RenoTwin",258,"SlimFix RenoTwin 258",{"$nulls":7},"(180","8x435"]
[]
[]
[]
["* Het Horizontale RenoGoot-pakket bevat: 6x Horizontale RenoGoot (bestaande uit een kopplaat en een gootdeel), 14x brackets (ter versteviging\nen koppeling) en 30x RVS-schroeven met verzonken kop Ø4 mm x 32 mm TX.\n** Het Verticale RenoGoot-pakket bevat: 4x Verticale RenoGoot (bestaande uit een verholen goot en een afdekkap), 4x schuimrubberband (1,5 m) en 24x RVS-boorschroeven + rubberring Ø4.8 mm x 32 mm TX.\nAttentie: Bij gebruik van de RenoGoot altijd de SlimFix Reno+ platen met gootdetail bestellen."]
{"$rows_empty":7}
["type",null,"doorbuiging","dakpakket","schroef","RC","doorbuiging","pakket",null,"schroef","eenheid"]
["SlimFix RenoTwin 114",{"$f":"CONCATENATE(A28&C28&D28)","v":"SlimFix RenoTwin 114022"},0,22,"8x225",3.92,"_kies","_kies",null,"8x195","50st./ds",50]
["SlimFix RenoTwin 114","SlimFix RenoTwin 114040",0,40,"8x225",4.76,0,22,null,"8x225","50st./ds",50]
["SlimFix RenoTwin 114","SlimFix RenoTwin 114050",0,50,"8x235",4.98,20,40,null,"8x235","50st./ds",50]
["SlimFix RenoTwin 114","SlimFix RenoTwin 114060",0,60,"8x255",{"v":5.2,"d":"5.20"},30,50,null,"8x255","50st./ds",50]
["SlimFix RenoTwin 114","SlimFix RenoTwin 114070",0,70,"8x255",5.42,null,60,null,"8x275","50st./ds",50]
["SlimFix RenoTwin 114","SlimFix RenoTwin 1142022",20,22,"8x235",4.32,null,70,null,"8x302","50st./ds",50]
["SlimFix RenoTwin 114","SlimFix RenoTwin 1142040",20,40,"8x255",4.76,"_kies",null,null,"8x335","50st./ds",50]
["SlimFix RenoTwin 114","SlimFix RenoTwin 1142050",20,50,"8x255",4.98,"Ja",null,null,"8x365","50st./ds",50]
["SlimFix RenoTwin 114","SlimFix RenoTwin 1142060",20,60,"8x275",{"v":5.2,"d":"5.20"},"Nee",null,null,"8x397","50st./ds",50]
["SlimFix RenoTwin 114","SlimFix RenoTwin 1142070",20,70,"8x275",5.42,{"$nulls":3},"8x435","25st./ds",25]
["SlimFix RenoTwin 114","SlimFix RenoTwin 1143022",30,22,"8x255",4.32,{"$nulls":3},"8x472","25st./ds",25]
["SlimFix RenoTwin 114","SlimFix RenoTwin 1143040",30,40,"8x255",4.76,{"$nulls":3},"n.v.t."]
["SlimFix RenoTwin 114","SlimFix RenoTwin 1143050",30,50,"8x275",4.98]
["SlimFix RenoTwin 114","SlimFix RenoTwin 1143060",30,60,"8x275",{"v":5.2,"d":"5.20"}]
["SlimFix RenoTwin 114","SlimFix RenoTwin 1143070",30,70,"8x302",5.42,null,null,"dakvlak 1"]
["SlimFix RenoTwin 129","SlimFix RenoTwin 129022",0,22,"8x225",4.42,null,null,{"$f":"'SlimFix RenoTwin'!D40","v":"_kies"},0,20,30]
["SlimFix RenoTwin 129","SlimFix RenoTwin 129040",0,40,"8x255",5.26,null,null,"_kies"]
["SlimFix RenoTwin 129","SlimFix RenoTwin 129050",0,50,"8x255",5.48,null,null,{"$f":"IF(HLOOKUP($I$43,$J$43:$L$49,3)>0,HLOOKUP($I$43,$J$43:$L$49,3),\" \")","v":{"$error":"#N/A"}},22,22,22]
["SlimFix RenoTwin 129","SlimFix RenoTwin 129060",0,60,"8x275",{"v":5.7,"d":"5.70"},null,null,{"$f":"IF(HLOOKUP($I$43,$J$43:$L$49,4)>0,HLOOKUP($I$43,$J$43:$L$49,4),\" \")","v":{"$error":"#N/A"}},40,40,40]
["SlimFix RenoTwin 129","SlimFix RenoTwin 129070",0,70,"8x275",5.92,null,null,{"$f":"IF(HLOOKUP($I$43,$J$43:$L$49,5)>0,HLOOKUP($I$43,$J$43:$L$49,5),\" \")","v":{"$error":"#N/A"}},50,50,50]
["SlimFix RenoTwin 129","SlimFix RenoTwin 1292022",20,22,"8x255",4.82,null,null,{"$f":"IF(HLOOKUP($I$43,$J$43:$L$49,6)>0,HLOOKUP($I$43,$J$43:$L$49,6),\" \")","v":{"$error":"#N/A"}},60,60,60]
["SlimFix RenoTwin 129","SlimFix RenoTwin 1292040",20,40,"8x275",5.26,null,null,{"$f":"IF(HLOOKUP($I$43,$J$43:$L$49,7)>0,HLOOKUP($I$43,$J$43:$L$49,7),\" \")","v":{"$error":"#N/A"}},70,70,70]
["SlimFix RenoTwin 129","SlimFix RenoTwin 1292050",20,50,"8x275",5.48,null,null,"dakvlak 2"]
["SlimFix RenoTwin 129","SlimFix RenoTwin 1292060",20,60,"8x302",{"v":5.7,"d":"5.70"},null,null,{"$f":"'SlimFix RenoTwin'!D55","v":"_kies"},0,20,30]
["SlimFix RenoTwin 129","SlimFix RenoTwin 1292070",20,70,"8x302",5.92,null,null,"_kies"]
["SlimFix RenoTwin 129","SlimFix RenoTwin 1293022",30,22,"8x255",4.82,null,null,{"$f":"IF(HLOOKUP($I$51,$J$51:$L$57,3)>0,HLOOKUP($I$51,$J$51:$L$57,3),\" \")","v":{"$error":"#N/A"}},22,22,22]
["SlimFix RenoTwin 129","SlimFix RenoTwin 1293040",30,40,"8x275",5.26,null,null,{"$f":"IF(HLOOKUP($I$51,$J$51:$L$57,4)>0,HLOOKUP($I$51,$J$51:$L$57,4),\" \")","v":{"$error":"#N/A"}},40,40,40]
["SlimFix RenoTwin 129","SlimFix RenoTwin 1293050",30,50,"8x302",5.48,null,null,{"$f":"IF(HLOOKUP($I$51,$J$51:$L$57,5)>0,HLOOKUP($I$51,$J$51:$L$57,5),\" \")","v":{"$error":"#N/A"}},50,50,50]
["SlimFix RenoTwin 129","SlimFix RenoTwin 1293060",30,60,"8x302",{"v":5.7,"d":"5.70"},null,null,{"$f":"IF(HLOOKUP($I$51,$J$51:$L$57,6)>0,HLOOKUP($I$51,$J$51:$L$57,6),\" \")","v":{"$error":"#N/A"}},60,60,60]
["SlimFix RenoTwin 129","SlimFix RenoTwin 1293070",30,70,"8x302",5.92,null,null,{"$f":"IF(HLOOKUP($I$51,$J$51:$L$57,7)>0,HLOOKUP($I$51,$J$51:$L$57,7),\" \")","v":{"$error":"#N/A"}},70,70,70]
["SlimFix RenoTwin 141","SlimFix RenoTwin 141022",0,22,"8x235",4.82]
["SlimFix RenoTwin 141","SlimFix RenoTwin 141040",0,40,"8x255",5.66]
["SlimFix RenoTwin 141","SlimFix RenoTwin 141050",0,50,"8x275",5.88,null,null,"Type","Afstand tussen schroeven in mm bij 67° bevestiging","Benodigde lengte in mm RenoTwin schroef"]
["SlimFix RenoTwin 141","SlimFix RenoTwin 141060",0,60,"8x275",{"v":6.1,"d":"6.10"},null,null,"RenoTwin 3.5","(100",255]
["SlimFix RenoTwin 141","SlimFix RenoTwin 141070",0,70,"8x302",6.32,null,null,"RenoTwin 4.0","(115",275]
["SlimFix RenoTwin 141","SlimFix RenoTwin 1412022",20,22,"8x255",5.22,null,null,"RenoTwin 4.5","(125",302]
["SlimFix RenoTwin 141","SlimFix RenoTwin 1412040",20,40,"8x275",5.66,null,null,"RenoTwin 5.0","(125",302]
["SlimFix RenoTwin 141","SlimFix RenoTwin 1412050",20,50,"8x302",5.88,null,null,"RenoTwin 5.5","(140",335]
["SlimFix RenoTwin 141","SlimFix RenoTwin 1412060",20,60,"8x302",{"v":6.1,"d":"6.10"},null,null,"RenoTwin 6.3",140,365]
["SlimFix RenoTwin 141","SlimFix RenoTwin 1412070",20,70,"8x302",6.32,null,null,"RenoTwin 6.7",150,365]
["SlimFix RenoTwin 141","SlimFix RenoTwin 1413022",30,22,"8x275",5.22,null,null,"RenoTwin 7.0",150,365]
["SlimFix RenoTwin 141","SlimFix RenoTwin 1413040",30,40,"8x302",5.66,null,null,"RenoTwin 8.0",160,397]
["SlimFix RenoTwin 141","SlimFix RenoTwin 1413050",30,50,"8x302",5.88,null,null,"RenoTwin 9.0",180,435]
["SlimFix RenoTwin 141","SlimFix RenoTwin 1413060",30,60,"8x302",{"v":6.1,"d":"6.10"}]
["SlimFix RenoTwin 141","SlimFix RenoTwin 1413070",30,70,"8x335",6.32]
["SlimFix RenoTwin 166","SlimFix RenoTwin 166022",0,22,"8x275",5.65]
["SlimFix RenoTwin 166","SlimFix RenoTwin 166040",0,40,"8x302",{"v":6.5,"d":"6.50"}]
["SlimFix RenoTwin 166","SlimFix RenoTwin 166050",0,50,"8x302",6.72]
["SlimFix RenoTwin 166","SlimFix RenoTwin 166060",0,60,"8x302",6.94]
["SlimFix RenoTwin 166","SlimFix RenoTwin 166070",0,70,"8x335",7.16]
["SlimFix RenoTwin 166","SlimFix RenoTwin 1662022",20,22,"8x302",6.06]
["SlimFix RenoTwin 166","SlimFix RenoTwin 1662040",20,40,"8x302",{"v":6.5,"d":"6.50"}]
["SlimFix RenoTwin 166","SlimFix RenoTwin 1662050",20,50,"8x335",6.72]
["SlimFix RenoTwin 166","SlimFix RenoTwin 1662060",20,60,"8x335",6.94]
["SlimFix RenoTwin 166","SlimFix RenoTwin 1662070",20,70,"8x335",7.16]
["SlimFix RenoTwin 166","SlimFix RenoTwin 1663022",30,22,"8x302",6.06]
["SlimFix RenoTwin 166","SlimFix RenoTwin 1663040",30,40,"8x335",{"v":6.5,"d":"6.50"}]
["SlimFix RenoTwin 166","SlimFix RenoTwin 1663050",30,50,"8x335",6.72]
["SlimFix RenoTwin 166","SlimFix RenoTwin 1663060",30,60,"8x335",6.94]
["SlimFix RenoTwin 166","SlimFix RenoTwin 1663070",30,70,"8x365",7.16]
["SlimFix RenoTwin 180","SlimFix RenoTwin 180022",0,22,"8x275",6.12]
["SlimFix RenoTwin 180","SlimFix RenoTwin 180040",0,40,"8x302",6.96]
["SlimFix RenoTwin 180","SlimFix RenoTwin 180050",0,50,"8x302",7.18]
["SlimFix RenoTwin 180","SlimFix RenoTwin 180060",0,60,"8x335",{"v":7.4,"d":"7.40"}]
["SlimFix RenoTwin 180",{"$f":"CONCATENATE(A92&C92&D92)","v":"SlimFix RenoTwin 180070"},0,70,"8x335",7.62]
["SlimFix RenoTwin 180","SlimFix RenoTwin 1802022",20,22,"8x302",6.52]
["SlimFix RenoTwin 180","SlimFix RenoTwin 1802040",20,40,"8x335",6.96]
["SlimFix RenoTwin 180","SlimFix RenoTwin 1802050",20,50,"8x335",7.18]
["SlimFix RenoTwin 180","SlimFix RenoTwin 1802060",20,60,"8x335",{"v":7.4,"d":"7.40"}]
["SlimFix RenoTwin 180","SlimFix RenoTwin 1802070",20,70,"8x365",7.62]
["SlimFix RenoTwin 180","SlimFix RenoTwin 1803022",30,22,"8x302",6.52]
["SlimFix RenoTwin 180","SlimFix RenoTwin 1803040",30,40,"8x335",6.96]
["SlimFix RenoTwin 180","SlimFix RenoTwin 1803050",30,50,"8x335",7.18]
["SlimFix RenoTwin 180","SlimFix RenoTwin 1803060",30,60,"8x365",{"v":7.4,"d":"7.40"}]
["SlimFix RenoTwin 180","SlimFix RenoTwin 1803070",30,70,"8x365",7.62]
["SlimFix RenoTwin 188","SlimFix RenoTwin 188022",0,22,"8x302",6.19]
["SlimFix RenoTwin 188","SlimFix RenoTwin 188040",0,40,"8x302",7.02]
["SlimFix RenoTwin 188","SlimFix RenoTwin 188050",0,50,"8x335",7.24]
["SlimFix RenoTwin 188","SlimFix RenoTwin 188060",0,60,"8x335",7.46]
["SlimFix RenoTwin 188",{"$f":"CONCATENATE(A107&C107&D107)","v":"SlimFix RenoTwin 188070"},0,70,"8x335",7.68]
["SlimFix RenoTwin 188","SlimFix RenoTwin 1882022",20,22,"8x302",6.58]
["SlimFix RenoTwin 188","SlimFix RenoTwin 1882040",20,40,"8x335",7.02]
["SlimFix RenoTwin 188","SlimFix RenoTwin 1882050",20,50,"8x335",7.24]
["SlimFix RenoTwin 188","SlimFix RenoTwin 1882060",20,60,"8x365",7.46]
["SlimFix RenoTwin 188","SlimFix RenoTwin 1882070",20,70,"8x365",7.68]
["SlimFix RenoTwin 188","SlimFix RenoTwin 1883022",30,22,"8x335",6.58]
["SlimFix RenoTwin 188","SlimFix RenoTwin 1883040",30,40,"8x335",7.02]
["SlimFix RenoTwin 188","SlimFix RenoTwin 1883050",30,50,"8x365",7.24]
["SlimFix RenoTwin 188","SlimFix RenoTwin 1883060",30,60,"8x365",7.46]
["SlimFix RenoTwin 188","SlimFix RenoTwin 1883070",30,70,"8x365",7.68]
["SlimFix RenoTwin 195","SlimFix RenoTwin 195022",0,22,"8x302",6.42]
["SlimFix RenoTwin 195","SlimFix RenoTwin 195040",0,40,"8x335",7.25]
["SlimFix RenoTwin 195","SlimFix RenoTwin 195050",0,50,"8x335",7.47]
["SlimFix RenoTwin 195","SlimFix RenoTwin 195060",0,60,"8x335",7.69]
["SlimFix RenoTwin 195","SlimFix RenoTwin 195070",0,70,"8x335",7.91]
["SlimFix RenoTwin 195","SlimFix RenoTwin 1952022",20,22,"8x335",6.83]
["SlimFix RenoTwin 195","SlimFix RenoTwin 1952040",20,40,"8x335",7.25]
["SlimFix RenoTwin 195","SlimFix RenoTwin 1952050",20,50,"8x335",7.47]
["SlimFix RenoTwin 195","SlimFix RenoTwin 1952060",20,60,"8x365",7.69]
["SlimFix RenoTwin 195","SlimFix RenoTwin 1952070",20,70,"8x365",7.91]
["SlimFix RenoTwin 195","SlimFix RenoTwin 1953022",30,22,"8x335",6.83]
["SlimFix RenoTwin 195","SlimFix RenoTwin 1953040",30,40,"8x335",7.25]
["SlimFix RenoTwin 195","SlimFix RenoTwin 1953050",30,50,"8x365",7.47]
["SlimFix RenoTwin 195","SlimFix RenoTwin 1953060",30,60,"8x365",7.69]
["SlimFix RenoTwin 195","SlimFix RenoTwin 1953070",30,70,"8x365",7.91]
["SlimFix RenoTwin 224","SlimFix RenoTwin 224022",0,22,"8x335",7.33]
["SlimFix RenoTwin 224","SlimFix RenoTwin 224040",0,40,"8x335",8.16]
["SlimFix RenoTwin 224","SlimFix RenoTwin 224050",0,50,"8x365",8.38]
["SlimFix RenoTwin 224","SlimFix RenoTwin 224060",0,60,"8x365",{"v":8.6,"d":"8.60"}]
["SlimFix RenoTwin 224","SlimFix RenoTwin 224070",0,70,"8x365",8.82]
["SlimFix RenoTwin 224","SlimFix RenoTwin 2242022",20,22,"8x365",7.72]
["SlimFix RenoTwin 224","SlimFix RenoTwin 2242040",20,40,"8x365",8.16]
["SlimFix RenoTwin 224","SlimFix RenoTwin 2242050",20,50,"8x365",8.38]
["SlimFix RenoTwin 224","SlimFix RenoTwin 2242060",20,60,"8x397",{"v":8.6,"d":"8.60"}]
["SlimFix RenoTwin 224","SlimFix RenoTwin 2242070",20,70,"8x397",8.82]
["SlimFix RenoTwin 224","SlimFix RenoTwin 2243022",30,22,"8x365",7.72]
["SlimFix RenoTwin 224","SlimFix RenoTwin 2243040",30,40,"8x365",8.16]
["SlimFix RenoTwin 224","SlimFix RenoTwin 2243050",30,50,"8x397",8.38]
["SlimFix RenoTwin 224","SlimFix RenoTwin 2243060",30,60,"8x397",{"v":8.6,"d":"8.60"}]
["SlimFix RenoTwin 224","SlimFix RenoTwin 2243070",30,70,"8x397",8.82]
["SlimFix RenoTwin 258","SlimFix RenoTwin 258022",0,22,"8x365",8.41]
["SlimFix RenoTwin 258","SlimFix RenoTwin 258040",0,40,"8x397",9.24]
["SlimFix RenoTwin 258","SlimFix RenoTwin 258050",0,50,"8x397",9.46]
["SlimFix RenoTwin 258","SlimFix RenoTwin 258060",0,60,"8x397",9.68]
["SlimFix RenoTwin 258","SlimFix RenoTwin 258070",0,70,"8x435",{"v":9.9,"d":"9.90"}]
["SlimFix RenoTwin 258","SlimFix RenoTwin 2582022",20,22,"8x397",{"v":8.8,"d":"8.80"}]
["SlimFix RenoTwin 258","SlimFix RenoTwin 2582040",20,40,"8x397",9.24]
["SlimFix RenoTwin 258","SlimFix RenoTwin 2582050",20,50,"8x435",9.46]
["SlimFix RenoTwin 258","SlimFix RenoTwin 2582060",20,60,"8x435",9.68]
["SlimFix RenoTwin 258","SlimFix RenoTwin 2582070",20,70,"8x435",{"v":9.9,"d":"9.90"}]
["SlimFix RenoTwin 258","SlimFix RenoTwin 2583022",30,22,"8x397",{"v":8.8,"d":"8.80"}]
["SlimFix RenoTwin 258","SlimFix RenoTwin 2583040",30,40,"8x435",9.24]
["SlimFix RenoTwin 258","SlimFix RenoTwin 2583050",30,50,"8x435",9.46]
["SlimFix RenoTwin 258","SlimFix RenoTwin 2583060",30,60,"8x435",9.68]
["SlimFix RenoTwin 258","SlimFix RenoTwin 2583070",30,70,"8x435",{"v":9.9,"d":"9.90"}]
["SlimFix RenoTwin 82","SlimFix RenoTwin 82022",0,22,"8x195",2.85]
["SlimFix RenoTwin 82","SlimFix RenoTwin 82040",0,40,"8x195",{"v":3.7,"d":"3.70"}]
["SlimFix RenoTwin 82","SlimFix RenoTwin 82050",0,50,"8x225",3.92]
["SlimFix RenoTwin 82","SlimFix RenoTwin 82060",0,60,"8x225",4.14]
["SlimFix RenoTwin 82","SlimFix RenoTwin 82070",0,70,"8x225",4.36]
["SlimFix RenoTwin 82","SlimFix RenoTwin 822022",20,22,"8x195",3.26]
["SlimFix RenoTwin 82","SlimFix RenoTwin 822040",20,40,"8x225",{"v":3.7,"d":"3.70"}]
["SlimFix RenoTwin 82","SlimFix RenoTwin 822050",20,50,"8x225",3.92]
["SlimFix RenoTwin 82",{"$f":"CONCATENATE(A171&C171&D171)","v":"SlimFix RenoTwin 822060"},20,60,"8x235",4.14]
["SlimFix RenoTwin 82","SlimFix RenoTwin 822070",20,70,"8x255",4.36]
["SlimFix RenoTwin 82","SlimFix RenoTwin 823022",30,22,"8x225",3.26]
["SlimFix RenoTwin 82","SlimFix RenoTwin 823040",30,40,"8x225",{"v":3.7,"d":"3.70"}]
["SlimFix RenoTwin 82","SlimFix RenoTwin 823050",30,50,"8x235",3.92]
["SlimFix RenoTwin 82","SlimFix RenoTwin 823060",30,60,"8x255",4.14]
["SlimFix RenoTwin 82","SlimFix RenoTwin 823070",30,70,"8x255",4.36]
["SlimFix RenoTwin 97","SlimFix RenoTwin 97022",0,22,"8x195",3.35]
["SlimFix RenoTwin 97","SlimFix RenoTwin 97040",0,40,"8x225",{"v":4.2,"d":"4.20"}]
["SlimFix RenoTwin 97","SlimFix RenoTwin 97050",0,50,"8x225",4.42]
["SlimFix RenoTwin 97","SlimFix RenoTwin 97060",0,60,"8x235",4.64]
["SlimFix RenoTwin 97","SlimFix RenoTwin 97070",0,70,"8x255",4.86]
["SlimFix RenoTwin 97","SlimFix RenoTwin 972022",20,22,"8x225",3.76]
["SlimFix RenoTwin 97","SlimFix RenoTwin 972040",20,40,"8x235",{"v":4.2,"d":"4.20"}]
["SlimFix RenoTwin 97","SlimFix RenoTwin 972050",20,50,"8x255",4.42]
["SlimFix RenoTwin 97","SlimFix RenoTwin 972060",20,60,"8x255",4.64]
["SlimFix RenoTwin 97","SlimFix RenoTwin 972070",20,70,"8x275",4.86]
["SlimFix RenoTwin 97","SlimFix RenoTwin 973022",30,22,"8x225",3.76]
["SlimFix RenoTwin 97","SlimFix RenoTwin 973040",30,40,"8x255",{"v":4.2,"d":"4.20"}]
["SlimFix RenoTwin 97","SlimFix RenoTwin 973050",30,50,"8x255",4.42]
["SlimFix RenoTwin 97","SlimFix RenoTwin 973060",30,60,"8x275",4.64]
["SlimFix RenoTwin 97","SlimFix RenoTwin 973070",30,70,"8x275",4.86]
["SlimFix RenoTwin Solar 114","SlimFix RenoTwin Solar 114022",0,22,"8x225"]
["SlimFix RenoTwin Solar 114","SlimFix RenoTwin Solar 114040",0,40,"8x225"]
["SlimFix RenoTwin Solar 114","SlimFix RenoTwin Solar 114050",0,50,"8x235"]
["SlimFix RenoTwin Solar 114","SlimFix RenoTwin Solar 114060",0,60,"8x255"]
["SlimFix RenoTwin Solar 114","SlimFix RenoTwin Solar 114070",0,70,"8x255"]
["SlimFix RenoTwin Solar 114","SlimFix RenoTwin Solar 1142022",20,22,"8x235"]
["SlimFix RenoTwin Solar 114","SlimFix RenoTwin Solar 1142040",20,40,"8x255"]
["SlimFix RenoTwin Solar 114","SlimFix RenoTwin Solar 1142050",20,50,"8x255"]
["SlimFix RenoTwin Solar 114","SlimFix RenoTwin Solar 1142060",20,60,"8x275"]
["SlimFix RenoTwin Solar 114","SlimFix RenoTwin Solar 1142070",20,70,"8x275"]
["SlimFix RenoTwin Solar 114","SlimFix RenoTwin Solar 1143022",30,22,"8x255"]
["SlimFix RenoTwin Solar 114","SlimFix RenoTwin Solar 1143040",30,40,"8x255"]
["SlimFix RenoTwin Solar 114","SlimFix RenoTwin Solar 1143050",30,50,"8x275"]
["SlimFix RenoTwin Solar 114","SlimFix RenoTwin Solar 1143060",30,60,"8x275"]
["SlimFix RenoTwin Solar 114","SlimFix RenoTwin Solar 1143070",30,70,"8x302"]
["SlimFix RenoTwin Solar 129","SlimFix RenoTwin Solar 129022",0,22,"8x225"]
["SlimFix RenoTwin Solar 129","SlimFix RenoTwin Solar 129040",0,40,"8x255"]
["SlimFix RenoTwin Solar 129","SlimFix RenoTwin Solar 129050",0,50,"8x255"]
["SlimFix RenoTwin Solar 129","SlimFix RenoTwin Solar 129060",0,60,"8x275"]
["SlimFix RenoTwin Solar 129","SlimFix RenoTwin Solar 129070",0,70,"8x275"]
["SlimFix RenoTwin Solar 129","SlimFix RenoTwin Solar 1292022",20,22,"8x255"]
["SlimFix RenoTwin Solar 129","SlimFix RenoTwin Solar 1292040",20,40,"8x275"]
["SlimFix RenoTwin Solar 129","SlimFix RenoTwin Solar 1292050",20,50,"8x275"]
["SlimFix RenoTwin Solar 129","SlimFix RenoTwin Solar 1292060",20,60,"8x302"]
["SlimFix RenoTwin Solar 129","SlimFix RenoTwin Solar 1292070",20,70,"8x302"]
["SlimFix RenoTwin Solar 129","SlimFix RenoTwin Solar 1293022",30,22,"8x255"]
["SlimFix RenoTwin Solar 129","SlimFix RenoTwin Solar 1293040",30,40,"8x275"]
["SlimFix RenoTwin Solar 129","SlimFix RenoTwin Solar 1293050",30,50,"8x302"]
["SlimFix RenoTwin Solar 129","SlimFix RenoTwin Solar 1293060",30,60,"8x302"]
["SlimFix RenoTwin Solar 129","SlimFix RenoTwin Solar 1293070",30,70,"8x302"]
["SlimFix RenoTwin Solar 141","SlimFix RenoTwin Solar 141022",0,22,"8x235"]
["SlimFix RenoTwin Solar 141","SlimFix RenoTwin Solar 141040",0,40,"8x255"]
["SlimFix RenoTwin Solar 141","SlimFix RenoTwin Solar 141050",0,50,"8x275"]
["SlimFix RenoTwin Solar 141","SlimFix RenoTwin Solar 141060",0,60,"8x275"]
["SlimFix RenoTwin Solar 141","SlimFix RenoTwin Solar 141070",0,70,"8x302"]
["SlimFix RenoTwin Solar 141","SlimFix RenoTwin Solar 1412022",20,22,"8x255"]
["SlimFix RenoTwin Solar 141","SlimFix RenoTwin Solar 1412040",20,40,"8x275"]
["SlimFix RenoTwin Solar 141","SlimFix RenoTwin Solar 1412050",20,50,"8x302"]
["SlimFix RenoTwin Solar 141","SlimFix RenoTwin Solar 1412060",20,60,"8x302"]
["SlimFix RenoTwin Solar 141","SlimFix RenoTwin Solar 1412070",20,70,"8x302"]
["SlimFix RenoTwin Solar 141","SlimFix RenoTwin Solar 1413022",30,22,"8x275"]
["SlimFix RenoTwin Solar 141","SlimFix RenoTwin Solar 1413040",30,40,"8x302"]
["SlimFix RenoTwin Solar 141",{"$f":"CONCATENATE(A235&C235&D235)","v":"SlimFix RenoTwin Solar 1413050"},30,50,"8x302"]
["SlimFix RenoTwin Solar 141","SlimFix RenoTwin Solar 1413060",30,60,"8x302"]
["SlimFix RenoTwin Solar 141","SlimFix RenoTwin Solar 1413070",30,70,"8x335"]
["SlimFix RenoTwin Solar 166","SlimFix RenoTwin Solar 166022",0,22,"8x275"]
["SlimFix RenoTwin Solar 166","SlimFix RenoTwin Solar 166040",0,40,"8x302"]
["SlimFix RenoTwin Solar 166","SlimFix RenoTwin Solar 166050",0,50,"8x302"]
["SlimFix RenoTwin Solar 166","SlimFix RenoTwin Solar 166060",0,60,"8x302"]
["SlimFix RenoTwin Solar 166","SlimFix RenoTwin Solar 166070",0,70,"8x335"]
["SlimFix RenoTwin Solar 166","SlimFix RenoTwin Solar 1662022",20,22,"8x302"]
["SlimFix RenoTwin Solar 166","SlimFix RenoTwin Solar 1662040",20,40,"8x302"]
["SlimFix RenoTwin Solar 166","SlimFix RenoTwin Solar 1662050",20,50,"8x335"]
["SlimFix RenoTwin Solar 166","SlimFix RenoTwin Solar 1662060",20,60,"8x335"]
["SlimFix RenoTwin Solar 166","SlimFix RenoTwin Solar 1662070",20,70,"8x335"]
["SlimFix RenoTwin Solar 166","SlimFix RenoTwin Solar 1663022",30,22,"8x302"]
["SlimFix RenoTwin Solar 166","SlimFix RenoTwin Solar 1663040",30,40,"8x335"]
["SlimFix RenoTwin Solar 166","SlimFix RenoTwin Solar 1663050",30,50,"8x335"]
["SlimFix RenoTwin Solar 166","SlimFix RenoTwin Solar 1663060",30,60,"8x335"]
["SlimFix RenoTwin Solar 166","SlimFix RenoTwin Solar 1663070",30,70,"8x365"]
["SlimFix RenoTwin Solar 180","SlimFix RenoTwin Solar 180022",0,22,"8x275"]
["SlimFix RenoTwin Solar 180","SlimFix RenoTwin Solar 180040",0,40,"8x302"]
["SlimFix RenoTwin Solar 180","SlimFix RenoTwin Solar 180050",0,50,"8x302"]
["SlimFix RenoTwin Solar 180","SlimFix RenoTwin Solar 180060",0,60,"8x335"]
["SlimFix RenoTwin Solar 180","SlimFix RenoTwin Solar 180070",0,70,"8x335"]
["SlimFix RenoTwin Solar 180","SlimFix RenoTwin Solar 1802022",20,22,"8x302"]
["SlimFix RenoTwin Solar 180","SlimFix RenoTwin Solar 1802040",20,40,"8x335"]
["SlimFix RenoTwin Solar 180","SlimFix RenoTwin Solar 1802050",20,50,"8x335"]
["SlimFix RenoTwin Solar 180","SlimFix RenoTwin Solar 1802060",20,60,"8x335"]
["SlimFix RenoTwin Solar 180","SlimFix RenoTwin Solar 1802070",20,70,"8x365"]
["SlimFix RenoTwin Solar 180","SlimFix RenoTwin Solar 1803022",30,22,"8x302"]
["SlimFix RenoTwin Solar 180","SlimFix RenoTwin Solar 1803040",30,40,"8x335"]
["SlimFix RenoTwin Solar 180","SlimFix RenoTwin Solar 1803050",30,50,"8x335"]
["SlimFix RenoTwin Solar 180","SlimFix RenoTwin Solar 1803060",30,60,"8x365"]
["SlimFix RenoTwin Solar 180","SlimFix RenoTwin Solar 1803070",30,70,"8x365"]
["SlimFix RenoTwin Solar 195","SlimFix RenoTwin Solar 195022",0,22,"8x302"]
["SlimFix RenoTwin Solar 195","SlimFix RenoTwin Solar 195040",0,40,"8x335"]
["SlimFix RenoTwin Solar 195","SlimFix RenoTwin Solar 195050",0,50,"8x335"]
["SlimFix RenoTwin Solar 195","SlimFix RenoTwin Solar 195060",0,60,"8x335"]
["SlimFix RenoTwin Solar 195","SlimFix RenoTwin Solar 195070",0,70,"8x335"]
["SlimFix RenoTwin Solar 195","SlimFix RenoTwin Solar 1952022",20,22,"8x335"]
["SlimFix RenoTwin Solar 195","SlimFix RenoTwin Solar 1952040",20,40,"8x335"]
["SlimFix RenoTwin Solar 195","SlimFix RenoTwin Solar 1952050",20,50,"8x335"]
["SlimFix RenoTwin Solar 195","SlimFix RenoTwin Solar 1952060",20,60,"8x365"]
["SlimFix RenoTwin Solar 195","SlimFix RenoTwin Solar 1952070",20,70,"8x365"]
["SlimFix RenoTwin Solar 195","SlimFix RenoTwin Solar 1953022",30,22,"8x335"]
["SlimFix RenoTwin Solar 195","SlimFix RenoTwin Solar 1953040",30,40,"8x335"]
["SlimFix RenoTwin Solar 195","SlimFix RenoTwin Solar 1953050",30,50,"8x365"]
["SlimFix RenoTwin Solar 195","SlimFix RenoTwin Solar 1953060",30,60,"8x365"]
["SlimFix RenoTwin Solar 195","SlimFix RenoTwin Solar 1953070",30,70,"8x365"]
["SlimFix RenoTwin Solar 224","SlimFix RenoTwin Solar 224022",0,22,"8x335"]
["SlimFix RenoTwin Solar 224","SlimFix RenoTwin Solar 224040",0,40,"8x335"]
["SlimFix RenoTwin Solar 224","SlimFix RenoTwin Solar 224050",0,50,"8x365"]
["SlimFix RenoTwin Solar 224","SlimFix RenoTwin Solar 224060",0,60,"8x365"]
["SlimFix RenoTwin Solar 224","SlimFix RenoTwin Solar 224070",0,70,"8x365"]
["SlimFix RenoTwin Solar 224","SlimFix RenoTwin Solar 2242022",20,22,"8x365"]
["SlimFix RenoTwin Solar 224","SlimFix RenoTwin Solar 2242040",20,40,"8x365"]
["SlimFix RenoTwin Solar 224","SlimFix RenoTwin Solar 2242050",20,50,"8x365"]
["SlimFix RenoTwin Solar 224","SlimFix RenoTwin Solar 2242060",20,60,"8x397"]
["SlimFix RenoTwin Solar 224","SlimFix RenoTwin Solar 2242070",20,70,"8x397"]
["SlimFix RenoTwin Solar 224","SlimFix RenoTwin Solar 2243022",30,22,"8x365"]
["SlimFix RenoTwin Solar 224","SlimFix RenoTwin Solar 2243040",30,40,"8x365"]
["SlimFix RenoTwin Solar 224","SlimFix RenoTwin Solar 2243050",30,50,"8x397"]
["SlimFix RenoTwin Solar 224","SlimFix RenoTwin Solar 2243060",30,60,"8x397"]
["SlimFix RenoTwin Solar 224","SlimFix RenoTwin Solar 2243070",30,70,"8x397"]
["SlimFix RenoTwin Solar 258","SlimFix RenoTwin Solar 258022",0,22,"8x365"]
["SlimFix RenoTwin Solar 258",{"$f":"CONCATENATE(A299&C299&D299)","v":"SlimFix RenoTwin Solar 258040"},0,40,"8x397"]
["SlimFix RenoTwin Solar 258","SlimFix RenoTwin Solar 258050",0,50,"8x397"]
["SlimFix RenoTwin Solar 258","SlimFix RenoTwin Solar 258060",0,60,"8x397"]
["SlimFix RenoTwin Solar 258","SlimFix RenoTwin Solar 258070",0,70,"8x435"]
["SlimFix RenoTwin Solar 258","SlimFix RenoTwin Solar 2582022",20,22,"8x397"]
["SlimFix RenoTwin Solar 258","SlimFix RenoTwin Solar 2582040",20,40,"8x397"]
["SlimFix RenoTwin Solar 258","SlimFix RenoTwin Solar 2582050",20,50,"8x435"]
["SlimFix RenoTwin Solar 258","SlimFix RenoTwin Solar 2582060",20,60,"8x435"]
["SlimFix RenoTwin Solar 258","SlimFix RenoTwin Solar 2582070",20,70,"8x435"]
["SlimFix RenoTwin Solar 258","SlimFix RenoTwin Solar 2583022",30,22,"8x397"]
["SlimFix RenoTwin Solar 258","SlimFix RenoTwin Solar 2583040",30,40,"8x435"]
["SlimFix RenoTwin Solar 258","SlimFix RenoTwin Solar 2583050",30,50,"8x435"]
["SlimFix RenoTwin Solar 258","SlimFix RenoTwin Solar 2583060",30,60,"8x435"]
["SlimFix RenoTwin Solar 258","SlimFix RenoTwin Solar 2583070",30,70,"8x435"]
["SlimFix RenoTwin Solar 82","SlimFix RenoTwin Solar 82022",0,22,"8x195"]
["SlimFix RenoTwin Solar 82","SlimFix RenoTwin Solar 82040",0,40,"8x195"]
["SlimFix RenoTwin Solar 82","SlimFix RenoTwin Solar 82050",0,50,"8x225"]
["SlimFix RenoTwin Solar 82","SlimFix RenoTwin Solar 82060",0,60,"8x225"]
["SlimFix RenoTwin Solar 82","SlimFix RenoTwin Solar 82070",0,70,"8x225"]
["SlimFix RenoTwin Solar 82","SlimFix RenoTwin Solar 822022",20,22,"8x195"]
["SlimFix RenoTwin Solar 82","SlimFix RenoTwin Solar 822040",20,40,"8x225"]
["SlimFix RenoTwin Solar 82","SlimFix RenoTwin Solar 822050",20,50,"8x225"]
["SlimFix RenoTwin Solar 82","SlimFix RenoTwin Solar 822060",20,60,"8x235"]
["SlimFix RenoTwin Solar 82","SlimFix RenoTwin Solar 822070",20,70,"8x255"]
["SlimFix RenoTwin Solar 82","SlimFix RenoTwin Solar 823022",30,22,"8x225"]
["SlimFix RenoTwin Solar 82","SlimFix RenoTwin Solar 823040",30,40,"8x225"]
["SlimFix RenoTwin Solar 82","SlimFix RenoTwin Solar 823050",30,50,"8x235"]
["SlimFix RenoTwin Solar 82","SlimFix RenoTwin Solar 823060",30,60,"8x255"]
["SlimFix RenoTwin Solar 82","SlimFix RenoTwin Solar 823070",30,70,"8x255"]
["SlimFix RenoTwin Solar 97","SlimFix RenoTwin Solar 97022",0,22,"8x195"]
["SlimFix RenoTwin Solar 97","SlimFix RenoTwin Solar 97040",0,40,"8x225"]
["SlimFix RenoTwin Solar 97","SlimFix RenoTwin Solar 97050",0,50,"8x225"]
["SlimFix RenoTwin Solar 97","SlimFix RenoTwin Solar 97060",0,60,"8x235"]
["SlimFix RenoTwin Solar 97","SlimFix RenoTwin Solar 97070",0,70,"8x255"]
["SlimFix RenoTwin Solar 97","SlimFix RenoTwin Solar 972022",20,22,"8x225"]
["SlimFix RenoTwin Solar 97","SlimFix RenoTwin Solar 972040",20,40,"8x235"]
["SlimFix RenoTwin Solar 97","SlimFix RenoTwin Solar 972050",20,50,"8x255"]
["SlimFix RenoTwin Solar 97","SlimFix RenoTwin Solar 972060",20,60,"8x255"]
["SlimFix RenoTwin Solar 97","SlimFix RenoTwin Solar 972070",20,70,"8x275"]
["SlimFix RenoTwin Solar 97","SlimFix RenoTwin Solar 973022",30,22,"8x225"]
["SlimFix RenoTwin Solar 97","SlimFix RenoTwin Solar 973040",30,40,"8x255"]
["SlimFix RenoTwin Solar 97","SlimFix RenoTwin Solar 973050",30,50,"8x255"]
["SlimFix RenoTwin Solar 97","SlimFix RenoTwin Solar 973060",30,60,"8x275"]
["SlimFix RenoTwin Solar 97","SlimFix RenoTwin Solar 973070",30,70,"8x275"]